BEGIN:VCALENDAR
VERSION:2.0
PRODID:-//The Center for Aromatherapy Research and Education - ECPv6.10.1.1//NONSGML v1.0//EN
CALSCALE:GREGORIAN
METHOD:PUBLISH
X-WR-CALNAME:The Center for Aromatherapy Research and Education
X-ORIGINAL-URL:https://wpt.thisisnotcareswebsite.blog
X-WR-CALDESC:Events for The Center for Aromatherapy Research and Education
REFRESH-INTERVAL;VALUE=DURATION:PT1H
X-Robots-Tag:noindex
X-PUBLISHED-TTL:PT1H
BEGIN:VTIMEZONE
TZID:America/Chicago
BEGIN:DAYLIGHT
TZOFFSETFROM:-0600
TZOFFSETTO:-0500
TZNAME:CDT
DTSTART:20240310T080000
END:DAYLIGHT
BEGIN:STANDARD
TZOFFSETFROM:-0500
TZOFFSETTO:-0600
TZNAME:CST
DTSTART:20241103T070000
END:STANDARD
TZID:America/Denver
BEGIN:DAYLIGHT
TZOFFSETFROM:-0700
TZOFFSETTO:-0600
TZNAME:MDT
DTSTART:20240310T090000
END:DAYLIGHT
BEGIN:STANDARD
TZOFFSETFROM:-0600
TZOFFSETTO:-0700
TZNAME:MST
DTSTART:20241103T080000
END:STANDARD
END:VTIMEZONE
BEGIN:VEVENT
DTSTART;VALUE=DATE:20240914
DTEND;VALUE=DATE:20240915
DTSTAMP:20260421T192034
CREATED:20240904T150342Z
LAST-MODIFIED:20240904T150342Z
UID:10000334-1726272000-1726358399@wpt.thisisnotcareswebsite.blog
SUMMARY:2 DAY SEMINAR W/O HAL CAREFREE AZ Day 2
DESCRIPTION:To attend this session you must register for and attend Day 1. \n2 DAY SEMINAR W/O HAL CAREFREE AZ Day 1 \n \n  \n  \nPlease click the link below to register and receive more details about attending the in-person\, hands-on CARE Raindrop Seminar! \nCARE Raindrop Seminar Registration (elisamcclure.com)
URL:https://wpt.thisisnotcareswebsite.blog/event/2-day-seminar-w-o-hal-carefree-az-day-2/
LOCATION:The Boulders Resort\, Scottsdale AZ  85266\, North Tom Darlington Drive\, Scottsdale\, Maricopa County\, 85266\, United States
CATEGORIES:Two (2) Day Seminar w/o HAL
ATTACH;FMTTYPE=image/jpeg:https://wpt.thisisnotcareswebsite.blog/wp-content/uploads/2022/12/2day-seminar-banner-without-hal.jpg
ORGANIZER;CN="Elisa McClure":MAILTO:elisamcclure71@gmail.com
GEO:33.8031109;-111.9263976
X-APPLE-STRUCTURED-LOCATION;VALUE=URI;X-ADDRESS=The Boulders Resort Scottsdale AZ  85266 North Tom Darlington Drive Scottsdale Maricopa County 85266 United States;X-APPLE-RADIUS=500;X-TITLE=North Tom Darlington Drive:geo:-111.9263976,33.8031109
END:VEVENT
BEGIN:VEVENT
DTSTART;VALUE=DATE:20240830
DTEND;VALUE=DATE:20240902
DTSTAMP:20260421T192034
CREATED:20240405T190321Z
LAST-MODIFIED:20240814T210853Z
UID:10000286-1724976000-1725235199@wpt.thisisnotcareswebsite.blog
SUMMARY:3 DAY INTENSIVE - HOUSTON TX
DESCRIPTION:Register at https://forms.gle/j9ZMusprjn7YnMAu8 \nFor more information\, contact Priscilla Hervey\, FCCI at (626) 272-8280 or healthyconnecting@gmail.com \nPROGRAM LOCATION:\nPrivate Residence in Houston\, TX 77095\nAddress provided upon registration.\nPlease contact if suggestions for accommodations are needed. \nSEMINAR DAILY FORMAT:\n~August 30\, 2024 – Friday\n9:30 AM . . . . Registration/Sign In\n10:00 AM . . . . Introduction to CARE\n10:30 AM.….. .Chemistry I\n1:30PM… . . .Lunch\n2:30 PM….….Chemistry II\n5:30 PM……..Dinner\n6:30 PM……..History of Anointing and Laying of Hands\n8:30PM………Adjourn for evening \n~August 31\, 2024 – Saturday\n8:45 AM . . . . Arrival\n9:00AM………Vitaflex\n1:00 PM … .. .Lunch Break\n2:00 PM .. . . Emotional Release\n7:00PM . . . . Adjourn for evening \n~September 1\, 2024 – Sunday\n8:45AM………Arrival\n9:00 AM . . . . Raindrop I\n1:00PM . . .. .Lunch\n2:00 PM . . . . Raindrop II\n6:00 PM . . . . Adjourn Seminar
URL:https://wpt.thisisnotcareswebsite.blog/event/3-day-intensive-houston-tx-2/
LOCATION:Houston\, Texas – Location Upon Registration\, Houston\, TX\, 77095\, United States
CATEGORIES:Three (3) Day Intensive
ATTACH;FMTTYPE=image/jpeg:https://wpt.thisisnotcareswebsite.blog/wp-content/uploads/2022/12/3day-intensive-banner.jpg
ORGANIZER;CN="Priscilla Hervey":MAILTO:healthyconnecting@gmail.com
GEO:29.9108312;-95.6563119
END:VEVENT
BEGIN:VEVENT
DTSTART;VALUE=DATE:20240824
DTEND;VALUE=DATE:20240826
DTSTAMP:20260421T192034
CREATED:20240616T215422Z
LAST-MODIFIED:20240703T215639Z
UID:10000312-1724457600-1724630399@wpt.thisisnotcareswebsite.blog
SUMMARY:2 Day Seminar w/HAL - Boerne Texas
DESCRIPTION:HERE ARE THE DETAILS FOR THE SEMINAR\nTWO-DAY HANDS-ON WORKSHOP RAINDROP\, VITAFLEX\, & THE HISTORY OF ANOINTING AND LAYING ON OF HANDS \nDAY 1\nRegistration 9:00 AM\nINTRODUCTION TO CARE \nHISTORY OF ANOINTING AND LAYING ON OF HANDS (lunch break) \nAPPLIED VITAFLEX \nDAY 2 \n8:30 Check-in \nRAINDROP TECHNIQUE (FIRST HALF) \nLUNCH BREAK \nRAINDROP TECHNIQUE (SECOND HALF) \nLIMITATIONS OF CLASS SIZE\nRaindrop and Vitaflex are limited to 3 students for better hands-on attention and training.\nPRE-REQUISITES\nNo experience is necessary. All classes are scheduled for pre-requisite requirements.\nREFUNDS\nNo refunds will be issued. Class fees will be credited to the following Training Seminar\, available within one year of your registration date.\nWHAT IS INCLUDED\nClass Notes\, Necessary Oils\, Handouts\, a Handbook (if you have one\, please bring yours)\, and Certificates (mailed to you) acknowledging your participation in the course or courses are all included in seminar fees.\nWHAT TO BRING\nBring any books you have and your CARE HANDBOOK if you have taken classes before. Bring (1) twin sheet set\, (1) large bath towel\, and one (1) hand towel. These are for your personal use to receive your raindrop session.\nSEMINAR BOOKSTORE\nTexts and videos required for CARE Education are available for sale at the Seminar. I maintain a small Book Store to save on shipping for your convenience.\nPREPARATION\nIf you have books from previous classes\, please bring them\, especially your CARE HANDBOOK. Your fingernails must be free of nail polish\, very short\, and filed smoothly on the edges and corners. Clippers and files will be available in class. You cannot do all Vitaflex and Raindrop techniques with long nails. If you cannot perform all of the techniques taught in class because of long nails\, you may not receive credit for the class. \nThe National Certification Board approves the Center for Aromatherapy Research and Education (CARE) for Therapeutic Massage and Bodywork (NCBTMB) as a Continuing Education Approved Provider. This Seminar is worth 14 CE-hrs. of credit through NCBTMB. The 14 Hours of Credit for this Seminar are the first step toward becoming a Certified Raindrop Technique Specialist (CRTS) through the Natural Therapies Certification Board (NTCB). Completing this Seminar is also the first and basic set of requirements for becoming a Certified CARE Instructor (CCI)\, should you wish to pursue a teaching career with CARE. An additional 11 hours of CARE class time is required to move forward with these certifications. \nSee you soon! Elisa ND\, BCRS\, SCCI
URL:https://wpt.thisisnotcareswebsite.blog/event/2-day-seminar-w-hal-boerne-texas/
LOCATION:THE WELLNESS HUB\, East Blanco Road\, Boerne\, TX\, 78006\, United States
CATEGORIES:Two (2) Day Seminar w/ HAL
ATTACH;FMTTYPE=image/jpeg:https://wpt.thisisnotcareswebsite.blog/wp-content/uploads/2022/12/2day-seminar-banner-with-hal.jpg
ORGANIZER;CN="Elisa McClure":MAILTO:elisamcclure71@gmail.com
GEO:29.797227;-98.7258848
X-APPLE-STRUCTURED-LOCATION;VALUE=URI;X-ADDRESS=THE WELLNESS HUB East Blanco Road Boerne TX 78006 United States;X-APPLE-RADIUS=500;X-TITLE=East Blanco Road:geo:-98.7258848,29.797227
END:VEVENT
BEGIN:VEVENT
DTSTART;VALUE=DATE:20240818
DTEND;VALUE=DATE:20240821
DTSTAMP:20260421T192034
CREATED:20240806T212001Z
LAST-MODIFIED:20240807T194903Z
UID:10000328-1723939200-1724198399@wpt.thisisnotcareswebsite.blog
SUMMARY:3 DAY INTENSIVE - Colorado Springs Colorado
DESCRIPTION:FOR MORE INFORMATION PLEASE CONTACT:\nChavi Isaacson FCCI\, CRTS\, LSH\nchavi.care@gmail.com\n(602) 845-9708
URL:https://wpt.thisisnotcareswebsite.blog/event/3-day-intensive-colorado-springs-colorado/
LOCATION:Private Residence – Location Available Upon Registration\, Peyton\, CO\, 80831\, United States
CATEGORIES:Three (3) Day Intensive
ATTACH;FMTTYPE=image/jpeg:https://wpt.thisisnotcareswebsite.blog/wp-content/uploads/2022/12/3day-intensive-banner.jpg
GEO:39.0284685;-104.4841284
END:VEVENT
BEGIN:VEVENT
DTSTART;VALUE=DATE:20240817
DTEND;VALUE=DATE:20240819
DTSTAMP:20260421T192034
CREATED:20240211T192443Z
LAST-MODIFIED:20240222T183146Z
UID:10000268-1723852800-1724025599@wpt.thisisnotcareswebsite.blog
SUMMARY:2 Day Seminar w/o HAL - Skowhegan Maine
DESCRIPTION:Click the RSVP button to receive more information about this event.
URL:https://wpt.thisisnotcareswebsite.blog/event/2-day-seminar-wo-hal-skowhegan-maine-3/
LOCATION:Skowhegan\, Maine\, Skowhegan\, ME\, United States
CATEGORIES:Two (2) Day Seminar w/o HAL
ATTACH;FMTTYPE=image/jpeg:https://wpt.thisisnotcareswebsite.blog/wp-content/uploads/2022/12/2day-seminar-banner-without-hal.jpg
ORGANIZER;CN="Vicki Merrill":MAILTO:memoriesmatter@tds.net
GEO:44.7650366;-69.7193803
END:VEVENT
BEGIN:VEVENT
DTSTART;VALUE=DATE:20240816
DTEND;VALUE=DATE:20240819
DTSTAMP:20260421T192034
CREATED:20240703T164355Z
LAST-MODIFIED:20240805T210217Z
UID:10000316-1723766400-1724025599@wpt.thisisnotcareswebsite.blog
SUMMARY:3 DAY INTENSIVE  SAN MARCOS TEXAS
DESCRIPTION:PLEASE CLICK THE RSVP BUTTON TO CONTACT THE INSTRUCTOR AND TO RECEIVE A MORE DETAILED DAILY SCHEDULE OF THIS EVENT.
URL:https://wpt.thisisnotcareswebsite.blog/event/3-day-intensive-san-marcos-texas/
LOCATION:Stagecoach Trail\, 444 Stagecoach Trail\, San Marcos\, TX\, 78666\, United States
CATEGORIES:Three (3) Day Intensive
ATTACH;FMTTYPE=image/jpeg:https://wpt.thisisnotcareswebsite.blog/wp-content/uploads/2022/12/3day-intensive-banner.jpg
GEO:29.8665942;-97.9717107
X-APPLE-STRUCTURED-LOCATION;VALUE=URI;X-ADDRESS=Stagecoach Trail 444 Stagecoach Trail San Marcos TX 78666 United States;X-APPLE-RADIUS=500;X-TITLE=444 Stagecoach Trail:geo:-97.9717107,29.8665942
END:VEVENT
BEGIN:VEVENT
DTSTART;VALUE=DATE:20240722
DTEND;VALUE=DATE:20240725
DTSTAMP:20260421T192034
CREATED:20240221T210003Z
LAST-MODIFIED:20240627T165953Z
UID:10000273-1721606400-1721865599@wpt.thisisnotcareswebsite.blog
SUMMARY:CARE Summit 2024!
DESCRIPTION:Get your Tickets\n\n\n\n \nCCI Summit 2024 – Salt Lake City\n$350.00 \nMust be CARE INTERN or Certified CARE Instructor to attend\nAdd to cart\n \n2024 Advanced Bible Oils First Time Student\n$285.00\nAdd to cart\n \n2024 Advanced Bible Oils Returning Student\n$142.50 \nAdd to cart\n\n\n\nCCI SUMMIT 2024 \n**Participants must be CARE Interns or Certified CARE Instructors to attend \nThis year CARE’s CCI Summit will take place at the Crystal Inn Hotel & Suites in Salt Lake City\, Utah following Young Living Convention July 22-24\, Mon – Wed! Summit is a time for Certified CARE Instructors and CARE Interns to gather together to learn\, grow\, discuss\, network\, make new friends and reconnect with old friends. \nThe CCI Summit is open to all CCIs and above\, and also CARE Interns. All CCIs are required to attend Summit for the first five years of certification. After five years\, attendance is required at least once every two years. Distant CARE Instructors are required to attend at least one Summit during their first two years as a CCI\, and at least once every three years thereafter. CIs may attend but are not required to do so. \nAbsences may be excused due to extenuating circumstances upon a request to CARE with approval. (See pp 75-76 of The CCI Handbook for more information on Summit attendance) \nMust be CARE Intern or Certified CARE Instructor to attend \nBasic Schedule: \nMonday\, July 22\, 8:30 a.m. – 6:00 p.m.\nTuesday\, July 23\, 8:30 a.m. – 6:00 p.m.\nWednesday\, July 24\, 8:00 a.m. – 12:00 p.m. \nHotel Rooms: \nThe Crystal Inn is offering a special room rate for our group: \nSingle/Double: $149/night\nTriple/Quad: $159/night\n(These prices only guaranteed until June 20) \nFree hot breakfast comes with your stay. \nCall (801) 328-4466 to reserve rooms.\nWhen making your reservation use group code: CARE24
URL:https://wpt.thisisnotcareswebsite.blog/event/care-summit-2024/
LOCATION:Crystal Inn Hotel & Suites Salt Lake City\, 230 W 500 S\, Salt Lake City\, UT\, 84101\, United States
CATEGORIES:CCI Summit 2024
ATTACH;FMTTYPE=image/jpeg:https://wpt.thisisnotcareswebsite.blog/wp-content/uploads/2024/02/2024-CARE-Summit-Salt-Lake-City-01.jpg
ORGANIZER;CN="Anthony Stewart":MAILTO:anthonymack777@gmail.com
GEO:40.759254;-111.898095
X-APPLE-STRUCTURED-LOCATION;VALUE=URI;X-ADDRESS=Crystal Inn Hotel & Suites Salt Lake City 230 W 500 S Salt Lake City UT 84101 United States;X-APPLE-RADIUS=500;X-TITLE=230 W 500 S:geo:-111.898095,40.759254
END:VEVENT
BEGIN:VEVENT
DTSTART;TZID=America/Chicago:20240721T083000
DTEND;TZID=America/Chicago:20240721T180000
DTSTAMP:20260421T192034
CREATED:20240221T201109Z
LAST-MODIFIED:20240627T165955Z
UID:10000272-1721550600-1721584800@wpt.thisisnotcareswebsite.blog
SUMMARY:Advanced Bible Oils Class
DESCRIPTION:Get your Tickets\n\n\n\n \nCCI Summit 2024 – Salt Lake City\n$350.00 \nMust be CARE INTERN or Certified CARE Instructor to attend\nAdd to cart\n \n2024 Advanced Bible Oils First Time Student\n$285.00\nAdd to cart\n \n2024 Advanced Bible Oils Returning Student\n$142.50 \nAdd to cart\n\n\n\nInstructor:\nAnthony Stewart\, FCCI\nExecutive Director of CARE International \nSchedule:\nDoors open at 8:00 a.m.\nPart I: 8:30 a.m. – 12:30 p.m.\nLunch: 12:30 p.m. – 2:00 p.m.\nPart II: 2:00 p.m. – 6:00 p.m. \nAdvanced Bible Oils is a wonderful in-depth review of essential oils and practices of the ancient Hebrews and early Christians in scripture. We will also discuss the history of the Bible and learn how to study scripture in such a way that it will enrich your experience. As part of this class we will go through the entire History of Anointing and Laying on of Hands (HAL; formerly known as Healing Oils of the Bible) class as presented by CARE along with Q and A. The primary focus of this class is to educate CARE Instructors on how to teach HAL\, but there is much more information presented that is useful to anyone who has an interest in the Bible and essential oils. \nAdvanced Bible Oils is required for all new CCIs who have not yet taken this class. CARE Interns (CIs) are welcome to attend and fulfill this requirement before becoming a CCI. This class is also open to the public upon registration. It is recommended\, but not required\, that participants complete CARE’s History of Anointing and Laying on of Hands before attending. \nRepeat students of Advanced Bible Oils may attend at half price. \nAdvanced Bible Oils is approved for 8 CE Hours through NCBTMB. \nPre-Class Assignments: \n\nObtain a personal copy and read the book\, Healing Oils of the Bible by David Stewart.\nObtain a personal copy and view the DVD\, Healing Oils of the Bible.\nChoose at least three books from the Bible to read and study from beginning to end. Please make sure that you read at least one book from the Hebrew Bible (Old Testament) and one book from the New Testament. You may choose either part of the Bible for the third book. While studying\, take notes on the following: (1) References to oils or plants\, if any; (2) Verses that are difficult to understand\, or of interest to you; (3) References that may connect to other books of the Bible\, if any (e.g.\, Jeremiah 31:31-34 and Hebrews 8:8-12).\nOPTIONAL: Obtain a personal copy and read the book\, Healing: God’s Forgotten Gift\, and fill out the blanks for students to answer (if this book is available\, or if you already have a copy).\nOPTIONAL: Obtain a personal copy and view the DVD\, Healing: God’s Forgotten Gift\, for both leader and student (if this DVD set is available\, or if you already have a copy).\n\nBe prepared to comment on any or all of the above in class. \nThings to Bring to Class: \n\nYour copy of the book Healing Oils of the Bible.\nYour copy of the book Healing: God’s Forgotten Gift (if available).\nA copy of the Bible.\nA bottle of your favorite Biblical oil with which you want to be anointed.\nA notebook and pen.\n\nWorkshop Content: \nPart of the class’s intent is to introduce unusual situations in which you may find yourself when teaching HAL. For example\, you may have attendees who are not of a Judeo-Christian heritage\, and who do not consider the Hebrew Bible (Old Testament) and/or the New Testament their scriptures\, which can be challenging. A brief description of many religions will be given along with what to expect. We will also look at the rich history of the Bible\, and how it developed over the millennia into its present form\, among many other fascinating topics! \nHotel Rooms: \nThe Crystal Inn is offering a special room rate for our group: \nSingle/Double: $149/night\nTriple/Quad: $159/night \nFree hot breakfast comes with your stay. \nCall (801) 328-4466 to reserve rooms.\nWhen making your reservation use group code: CARE24
URL:https://wpt.thisisnotcareswebsite.blog/event/summit-2024-cares-advanced-bible-oils/
LOCATION:Crystal Inn Hotel & Suites Salt Lake City\, 230 W 500 S\, Salt Lake City\, UT\, 84101\, United States
CATEGORIES:CARE ADVANCED BIBLE OILS
ATTACH;FMTTYPE=image/jpeg:https://wpt.thisisnotcareswebsite.blog/wp-content/uploads/2023/02/advanced-23-bible-oils.jpg
ORGANIZER;CN="Anthony Stewart":MAILTO:anthonymack777@gmail.com
GEO:40.759254;-111.898095
X-APPLE-STRUCTURED-LOCATION;VALUE=URI;X-ADDRESS=Crystal Inn Hotel & Suites Salt Lake City 230 W 500 S Salt Lake City UT 84101 United States;X-APPLE-RADIUS=500;X-TITLE=230 W 500 S:geo:-111.898095,40.759254
END:VEVENT
END:VCALENDAR