BEGIN:VCALENDAR
VERSION:2.0
PRODID:-//The Center for Aromatherapy Research and Education - ECPv6.10.1.1//NONSGML v1.0//EN
CALSCALE:GREGORIAN
METHOD:PUBLISH
X-ORIGINAL-URL:https://wpt.thisisnotcareswebsite.blog
X-WR-CALDESC:Events for The Center for Aromatherapy Research and Education
REFRESH-INTERVAL;VALUE=DURATION:PT1H
X-Robots-Tag:noindex
X-PUBLISHED-TTL:PT1H
BEGIN:VTIMEZONE
TZID:America/Chicago
BEGIN:DAYLIGHT
TZOFFSETFROM:-0600
TZOFFSETTO:-0500
TZNAME:CDT
DTSTART:20250309T080000
END:DAYLIGHT
BEGIN:STANDARD
TZOFFSETFROM:-0500
TZOFFSETTO:-0600
TZNAME:CST
DTSTART:20251102T070000
END:STANDARD
END:VTIMEZONE
BEGIN:VEVENT
DTSTART;VALUE=DATE:20250314
DTEND;VALUE=DATE:20250317
DTSTAMP:20260420T114337
CREATED:20241115T015203Z
LAST-MODIFIED:20241115T015203Z
UID:10000349-1741910400-1742169599@wpt.thisisnotcareswebsite.blog
SUMMARY:3 Day Intensive – Leavenworth KS
DESCRIPTION:SEMINAR DAILY FORMAT:\nFRIDAY March 14\, 2025\n\n8:30       Registration and Intro to CARE\n9:00       Chemistry I\n12:00      LUNCH (on own)\n1:00       VitaFlex\n5:00       Dinner\n6:00       Raindrop I (Lecture and Demo)\n8:00       Adjourn for the evening\n\nSATURDAY March 15\, 2025\n9:00       Chemistry II\n12:00      Lunch (on own)\n1:00       Raindrop II (Hands On)\n5:00       Adjourn for the evening\n\nSUNDAY March 16\, 2025\n8:30       Biblical Oils\n10:30      Emotional Release (Lecture)\n1:30       Lunch (on own)\n2:30       Emotional Release Continued (Breakout and Demonstration)\n5:00       Evaluations/Intensive Adjourn\nDuring this intensive\, find and celebrate the small victories.  I look forward to seeing you!\n  \n\n\n\n\nNeeding CE’s?\n\n25 hours in the theory and practical applications of essential oils\, as well as 25 hours of continuing education for massage therapists\, body workers\, physical therapists\, and other professionals. \n\nParticipants completing the training will:\n\n\n\nUnderstand the Fundamentals of Aromatherapy \n\n\n\n\nUnderstand the Science and Chemistry of Essential Oils \n\n\n\n\nLearn to Apply Useful Skills in Vitaflex \n\n\n\n\nLearn to do Raindrop Technique \n\n\n\n\nLearn how Essential Oils Can be Used for Emotional Releasing \n\n\n\nCONTINUING EDUCATION CREDIT\n\nThe Center for Aromatherapy Research and Education (CARE) is approved by the National Certification Board for Therapeutic Massage and Bodywork (NCBTMB) as a Continuing Education Approved Provider. This Seminar is worth 25 CE-hrs of credit through NCBTMB. The 25 Hours of Credit for this seminar are the first step toward becoming a Certified Raindrop Technique Specialist (CRTS) through the Natural Therapies Certification Board (NTCB). Completing this seminar is also the first and basic set of requirements toward becoming a Certified CARE Instructor (CCI)\, should you wish to pursue a teaching career with CARE. \n\n\n\n\n\n\n\n\n\n\n\n\n\n\nCREDIT HOURS & PRICES:\n\n\n\n\n\nHistory of Anointing\, 2 Credit Hours\n$45.00 USD\n\n\n\n\n\n\nApplied VitaFlex\, 4 Credit Hours\n\n\n\n$160.00 USD\n\n\n\n\n\n\n\nRaindrop\, 8 Credit Hours\n\n$365.00 USD\n\n\n\n\n\n\n\nEmotional Release\, 5 Credit Hours\n\n\n\n$195.00 USD\n\n\n\n\n\n\n\nChemistry\, 6 Credit Hours\n\n$250.00 USD\n\n\n\n\n\n\n\nALA CARTE PRICE\n\n25 Credit Hours\n\n\n\n\n$1\,015.00 USD\n\n\n\n\n\n\n\nThe CARE 3 DAY INTENSIVE PACKAGE PRICE \n\nAll 25 Credit Hours\n\n\n\n\n$800.00\nSave $215! USD\n  \n\n\n\n\n\n\n\n\n\n\nLIMITATIONS OF CLASS SIZE\n\nRegistrations for Raindrop and Vitaflex are limited to keep class sizes small for better hands-on attention and training. The number of participants for Raindrop and Vitaflex is limited to 10 people per CARE Instructor. Preference given to those who register for the whole 25-hour Intensive. So register early to assure yourself a place. \nAs for the History of Anointing\, Chemistry\, and Emotional Release classes\, these are demonstration/lecture classes and there are no limitations on class size beyond the seating capacity of the room. They are all open to the public at ala carte prices. \n\n\n\n\n\nPRE-REQUISITES\n\nCARE VitaFlex is required before taking Raindrop.\n(Note: VitaFlex is included when you enroll for the entire 25-hr intensive) \n\n\n\n\n\nDEPOSITS / REFUNDS / PAYMENTS\n\nA $100 NON-REFUNDABLE deposit is required by February 21\, 2025 to hold your space for this intensive with final payment due March 10\, 2025.  After February 21\, 2025\, no refunds will be issued\, funds paid will be credited toward any other intensive taught by Karen Birdsall\, FCCI.  After February 21\, ala carte pricing  of $1015 will apply.  Payment plans are available upon contacting Karen at 913-449-5064 with final payment due by March 10\, 2025.  Register early to receive a $215 Savings!\nPaypal payments (friends and family option ONLY \, or fees will be charged to attendees) sent to @KarenBirdsall or Check/Cash sent to: \n27233 Tonganoxie Rd \nLeavenworth\, KS  66048 \n\n\n\n\n\nWHAT IS INCLUDED\n\nCCI Handbook (full registrations only)\, Class Notes\, Necessary Oils\, Handouts\, and a Certificate acknowledging your participation in the course or courses taken are all included in seminar fees (note: no certificate issued to those taking History of Anointing ala carte\, only full intensive registrations). \n\n\n\n\n\nWHAT TO BRING\n\nBring two (2) sheets\, two (2) bath towels and (1) hand towel OR (4) hand towels\, If you would be willing to bring a massage table\, please mention this when you register. You are encouraged also to bring your Bible for the History of Anointing class. \n\n\n\n\n\nTEXTS\n\nWhile there are no texts required to take the CARE classes\, if you own a copy of THE CHEMISTRY OF ESSENTIAL OILS MADE SIMPLE\, please bring it inasmuch as it will be referred to often in the Chemistry classes. Those without a copy of the Chemistry Book will be loaned a copy of the book to follow during class if one is available. Chemistry books may be available for purchase at the seminar. Other texts to be used include FEELINGS BURIED ALIVE\, HEAL YOUR BODY\, and RELEASING EMOTIONAL PATTERNS WITH ESSENTIAL OILS. Check with your CARE Instructor as these may be available for loan or purchase at the seminar. \n\n\n\n\n\nBOOKSTORE\n\nTexts and videos required for CCIs\, including those mentioned above\, may be available for sale at the seminar. Check with your CARE Instructor for more details. You may also purchase these and other books from www.raindroptraining.com. \n\n\n\n\n\nPREPARATION\n\nIt is a good idea to purchase the CARE DVDs/Videos on Raindrop and Vitaflex to review ahead of class in preparation for the hands-on training. Your fingernails must also be very short and filed smooth on the edges and corners. Clippers and files will be available in class. With long nails you will not be able to do all of the Vitaflex and Raindrop techniques. If you cannot perform all of the techniques taught in Raindrop Technique or VitaFlex because of long nails\, you will not receive credit for those two classes. (This is not an acupuncture event 🙂 ) \nFor information about Karen Birdsall:\nProfile \n \nemail:  ksbirdsall59@gmail.com \n\n\n\n\n\n\n\n\n\n\n\n\n 
URL:https://wpt.thisisnotcareswebsite.blog/event/3-day-intensive-leavenworth-ks/
LOCATION:Leavenworth\, KS\, Leavenworth\, KS\, 66048\, United States
CATEGORIES:Three (3) Day Intensive
ATTACH;FMTTYPE=image/jpeg:https://wpt.thisisnotcareswebsite.blog/wp-content/uploads/2022/12/3day-intensive-banner.jpg
GEO:39.2758776;-94.9974461
END:VEVENT
BEGIN:VEVENT
DTSTART;VALUE=DATE:20250321
DTEND;VALUE=DATE:20250324
DTSTAMP:20260420T114337
CREATED:20250203T192149Z
LAST-MODIFIED:20250213T181330Z
UID:10000369-1742515200-1742774399@wpt.thisisnotcareswebsite.blog
SUMMARY:3 Day Intensive - Oakley CA
DESCRIPTION:Instructor: Marie Koepke\, RN\, NBCR\, LCCI \nTake a deep dive into the world of essential oil applications  in Oakley\, CA! During this 3 -day nonsecular educational seminar every student will learn and experience  the healing properties and therapeutic applications of essential oils. This seminar will address the body/mind/spirit and emotional qualities of therapeutic essential oils in 5 different classes: Raindrop Technique\, Applied Vitaflex\, Chemistry\, Emotional Release and History of Anointing and Laying on of Hands (formally Healing Oils of the Bible).  This program is appropriate for anyone with an interest in essential oil use in their daily professional or personal life.\n***Important note: These classes are available to be taken ala carte (see pricing below)*** \nPARTICIPANTS COMPLETING THIS TRAINING WILL: \n~ Understand the Fundamentals of Aromatherapy \n~ Learn the Historical and Modern Uses of Healing Oils of Biblical Times \n~ Understand the Science and Chemistry of Essential Oils \n~ Learn and Experience basic Applied Vitaflex Techniques to enhance your application of the Raindrop oils \n~ Learn and Experience YLEO’s Raindrop Technique (as done by Gary Young in Dallas\, TX\, 2000) Every student will receive a full Raindrop! \n~ Learn and Experience Essential Oils applications in Emotional Release \nCONTINUING EDUCATION CREDIT: The Center for Aromatherapy Research and Education is approved by the National Certification Board for Therapeutic Massage and Bodywork (NCBTMB) as a continuing education Approved Provider. So anyone attending the full course will receive 25 CEUs or individual class credit. \nGET LICENSED AS A CRTS AND LSH: Learn how to become a Certified Raindrop Technique Specialist (CRTS) and Licensed Spiritual Healer (LSH) through CARE and legally practice Raindrop and Vitaflex in all states of the United States and 14 provinces in Canada. This Intensive is the INITIAL requirement you must fulfill for this Certification. IN ADDITION to attending the 25 hours of instruction and hands on training\, you will also have some practicums to complete on your own as well as a proctored exam to demonstrate you have proficiency in Raindrop and Vitaflex. After completing this\, you will have additional requirements online that the National Therapies board also requires. You will get complete information at the seminar. \nCONTACT INFORMATION\nMarie Koepke\, RN\,NBCR\, LCCI\nmtnmarie@yahoo.com\n970.531.3528\nIMPORTANT NOTE: Please register directly through Marie Koepke (see form below). \nPROGRAM LOCATION:\nPrivate residence in Oakley\, CA\nDetails and address will be furnished after registration. \nNEAREST AIRPORT:\nOakland International Airport (OAK) or San Francisco International Airport (SFO ) \nLIMITATIONS OF CLASS SIZE: Registrations for Raindrop and Vitaflex are limited to the first 9 people in order to keep class sizes small for better hands-on attention and training. \nINTENSIVE DAILY SCHEDULE: \nDay 1 – March 21\n8:30 AM – 9:00 AM . . . Intro to CARE  (lecture)\n9:00 AM – 12:00 PM . . . Chemistry of Essential Oils I (lecture)\n12:00 PM-1:00 PM . . . Lunch\n1:00 PM– 5:00 PM. . .  . Applied VitaFlex ( lecture & hands- on)\n5:30 PM– 6:00 PM . . .Recess\n6:00 PM – 8 :00 PM . . . . . History of Anointing Oils (lecture)\n8:00 PM adjourn for the evening \nDay 2 – March 22\n9:00AM – 12:00 PM . . . Chemistry of Essential Oils II (lecture)\n12:00 – 1:00 PM . . . Lunch\n1:00 – 5:00 PM. . . Raindrop I (lecture\, demo\, hands -on)\n5:00 – 7:00 PM. . . Raindrop II (hands -on)\nAdjorn for the evening \nDay 3\,  March 23\n9:00AM – 11:00PM. . . Raindrop Technique II (hands- on)\n11:00 AM – 12:00 PM. . .Emotional Release (part 1- lecture)\n12:00 – 1:00 . . . Lunch\n1:00 PM – 5:00 PM . . . Emotional Release (part 2 & 3- hands on & demo) \nCREDIT HOURS & PRICES:\n*Individual Course Credits & Ala Carte Prices\n*Applied Vitaflex. . . . . 4 hours/4 CEUs . . .$160.00 USD\n*History of Anointing Oils . . . . . 2 hours/2 CEUs . . . $45.00 USD\n*Raindrop I . . . . . 4 hours/4 CEUs . . . $182.50 USD\n*Raindrop II. . . . 4 hours/4 CEUs . . . $182.50 USD\n*Chemistry I . . . .3 hours/3 CEUs . . . $125.00 USD\n*Chemistry II. . . . 3 hours/3 CEUs . . . .$125.00 USD\n*Emotional Release. . . . 5 hours/5 CEUs . . . .$195.00 USD \nSPECIAL PACKAGE PRICE All 25 CEU HOURS $800.00 USD (Savings of $215)\nTOTAL A LA CARTE 25 CEU HOURS $1015.00 USD \nPRE-REQUISITES (if you attend full CARE\, all will be met):\n*CARE Vitaflex is required before taking Raindrop I. CARE Raindrop I is required before taking Raindrop II. CARE Chemistry I is required before taking Chemistry II. \nPAYMENT:\nCan be made via Venmo @marie-koepke. If Venmo isn’t an\noption for you\, you can mail a check or money order to Marie Koepkeat at the above address. \nREFUNDS: Full refund less $100 for processing for cancellations no later than 3 weeks before.\n~~~~~~~~~~~~~~~~~~~~~~~~~~~~~~~~~~~~~~~~~~~~~~~~~\n*WHAT IS INCLUDED: Class Notes\, All Oils to be use during classes\,Handouts\, a CCI Handbook and a Certificate acknowledging your participation in the course or courses taken are all included in seminar fees. \n*WHAT YOU SHOULD BRING: Bring two (2) twin sheets (one fitted and one flat if possible)\, one pillow case or face covering\, one (1) bath towel and one (1) hand towel. You are encouraged also to bring your Bible for the History of Anointing class . While there are no texts required to take the CARE classes\, if you own a copy of THE CHEMISTRY OF ESSENTIAL OILS MADE SIMPLE\, please bring it in as much as it will be referred to often in the Chemistry classes. \nABOUT THIS INSTRUCTOR: \nMarie Koepke\, RN\, NBCR\, LCCI\, YLEO Gold \nLives in the Colorado Rockies (where she does Raindrop with an Altitude) and is an active YL distributor since 2001. Marie has had extensive training in Critical Care (Surgical & Open Heart) and Trauma nursing. She is a Nationally Board Certified Reflexologist (NBCR) who has advance training in neuro hand/ear/foot/facial Reflexology. She is a Lifetime Certified CARE Instructor for 20 years with advance training in Chemistry of essential oils and Emotional Releasing with essential oils with Dr. David Stewart. In May 2007\, she received special one on one training in Raindrop Technique with Dr. Gary Young in Ecuador. When she is not teaching she sees clients in her own practice in Fraser/Winter Park \, CO. Integrative Reflexology & Aromatherapy – A Step in Thyme\, LLC. She specializes in Neuro Facial/Foot/Hand Reflexology and couples her reflexology sessions with the Raindrop Technique! Visit her website: https://www.astepinthyme4u.com \nLocation of Seminar: Oakley\, CA\nDates of Seminar: March 21 – 23. 2025\nCheck classes you wish to attend:\n____FULL 25 hours. . . . . . . .$800             ___Repeat Student . . . $400\n____Applied Vitaflex . . . . . . $160              ___Repeat Student . . . $80\n____Bible Oils . . . . . . . . . . .  $45                ___Repeat Student . . . $22.50\n____Raindrop I & II. . . . . . . $365              ___Repeat Student . . . $182.50\n____Chemistry I & II. . . . . . $250              ___Repeat Student . . . $125\n____Emotional Release. . . . .$195             ___Repeat Student . . . $97.50 \nName______________________________________________ \nBilling Address______________________________________ \nCity________________________________State/Province_______Zip______ \nPhone____________________ \nEmail Address__________________________________________________ \nPAYMENT\nYou may pay in full or $150 non- refundable deposit is due upon registration and balance due by March 10th\, 2025        Payment plans available upon request\nVenmo: @marie-koepke\nCheck or Money order: Amt. Paid $____________ Check Number_______\nCredit Card: Type: _____Visa______MC CC#_______________________________________________\nExp. Date_______ CVV#_______\nExact Name on CC_____________________________________zip code____________ \nSend Registration and payment to:\nMarie Koepke\, POB 393\, Fraser\, CO 80442\nor email mtnmarie@yahoo.com \n 
URL:https://wpt.thisisnotcareswebsite.blog/event/3-day-intensive-oakley-ca/
LOCATION:Oakley\, CA\, oakley\, CA\, United States
CATEGORIES:Three (3) Day Intensive
ATTACH;FMTTYPE=image/jpeg:https://wpt.thisisnotcareswebsite.blog/wp-content/uploads/2022/12/3day-intensive-banner.jpg
GEO:37.9974219;-121.7124536
END:VEVENT
BEGIN:VEVENT
DTSTART;VALUE=DATE:20250321
DTEND;VALUE=DATE:20250324
DTSTAMP:20260420T114337
CREATED:20250204T153824Z
LAST-MODIFIED:20250204T153824Z
UID:10000370-1742515200-1742774399@wpt.thisisnotcareswebsite.blog
SUMMARY:3 Day Intensive - Richwood OH
DESCRIPTION:Hi there! \nThis location is nearest to the John Glenn Airport in Columbus\, OH\, about 45 min drive.  You may stay right at the Retreat Center for $70/night/person. I suggest a 2 night stay (Fri and Sat) for the ease of class times in this 3 day full intensive. If traveling far\, please come in Thursday night.  You will register with me for the intensive and to stay at the Retreat Center.  Just call me at 814-883-0006. \nYou may bring food for lunches/suppers as you wish.  There are a few local restaurants\, not alot. \nFriday is Intro\, Chem I\, Vitaflex and Bible Oils from 8 am to 9 pm \nSaturday is Raindrop all day from 8:30 am until 5:30 or you have completed your raindrop sessions. \nSunday is Chem II and Emotional Releasing from 8:30 am to 6 pm \nPlease wear/bring layers as the space is open and temperature may vary.  Bring a blanket.  And of course\, as you can see in the detailed description above for a 3 day intensive\, you’ll bring your own sheets (top and bottom) and pillowcase\, plus large bath towel and hand towel for your personal raindrop.  No books or reading ahead is required.  I will have a bookstore of the basic and needed books for class and some DVDs\, so you are fine to borrow these for class and may purchase if you like.  Please call to register and with ANY and ALL questions you may have.  This will be fun!
URL:https://wpt.thisisnotcareswebsite.blog/event/3-day-intensive-richwood-oh/
LOCATION:Three Cedars Farm and Retreat Center\, 24759 State Route 4\, Richwood\, PA\, United States
CATEGORIES:Three (3) Day Intensive
ATTACH;FMTTYPE=image/jpeg:https://wpt.thisisnotcareswebsite.blog/wp-content/uploads/2022/12/3day-intensive-banner.jpg
ORGANIZER;CN="Sherry Cummings Strayer":MAILTO:essenceofpureliving@gmail.com
GEO:40.3673134;-83.2906519
X-APPLE-STRUCTURED-LOCATION;VALUE=URI;X-ADDRESS=Three Cedars Farm and Retreat Center 24759 State Route 4 Richwood PA United States;X-APPLE-RADIUS=500;X-TITLE=24759 State Route 4:geo:-83.2906519,40.3673134
END:VEVENT
END:VCALENDAR