BEGIN:VCALENDAR
VERSION:2.0
PRODID:-//The Center for Aromatherapy Research and Education - ECPv6.10.1.1//NONSGML v1.0//EN
CALSCALE:GREGORIAN
METHOD:PUBLISH
X-WR-CALNAME:The Center for Aromatherapy Research and Education
X-ORIGINAL-URL:https://wpt.thisisnotcareswebsite.blog
X-WR-CALDESC:Events for The Center for Aromatherapy Research and Education
REFRESH-INTERVAL;VALUE=DURATION:PT1H
X-Robots-Tag:noindex
X-PUBLISHED-TTL:PT1H
BEGIN:VTIMEZONE
TZID:America/Chicago
BEGIN:DAYLIGHT
TZOFFSETFROM:-0600
TZOFFSETTO:-0500
TZNAME:CDT
DTSTART:20250309T080000
END:DAYLIGHT
BEGIN:STANDARD
TZOFFSETFROM:-0500
TZOFFSETTO:-0600
TZNAME:CST
DTSTART:20251102T070000
END:STANDARD
END:VTIMEZONE
BEGIN:VEVENT
DTSTART;VALUE=DATE:20250501
DTEND;VALUE=DATE:20250505
DTSTAMP:20260421T030600
CREATED:20250103T204136Z
LAST-MODIFIED:20250114T171043Z
UID:10000360-1746057600-1746403199@wpt.thisisnotcareswebsite.blog
SUMMARY:4 Day Intensive - Bartlesville OK
DESCRIPTION:This will be a four-day workshop in Raindrop\, Vitaflex\, Chemistry\, Emotional Release and History of Anointing & Laying on of Hands (formerly Healing Oils of the Bible)\n25 hours in the theory and practical applications of essential oils\, as well as 25 hours of continuing education for massage therapists\, body workers\, physical therapists\, and other professionals.  Join Penny Cosner\, Lifetime Certified CARE Instructor in Bartlesville\, OK\, May 1-4\, 2025.\nParticipants completing the training will:\n\n\nUnderstand the Fundamentals of Aromatherapy\n\n\nUnderstand the Science and Chemistry of Essential Oils\n\n\nLearn to Apply Useful Skills in Vitaflex\n\n\nLearn to do Raindrop Technique\n\n\nLearn how Essential Oils Can be Used for Emotional Releasing\n\n\nCONTINUING EDUCATION CREDIT\nThe Center for Aromatherapy Research and Education (CARE) is approved by the National Certification Board for Therapeutic Massage and Bodywork (NCBTMB) as a Continuing Education Approved Provider. This Seminar is worth 25 CE-hrs of credit through NCBTMB. The 25 Hours of Credit for this seminar are the first step toward becoming a Certified Raindrop Technique Specialist (CRTS) through the Natural Therapies Certification Board (NTCB). Completing this seminar is also the first and basic set of requirements toward becoming a Certified CARE Instructor (CCI)\, should you wish to pursue a teaching career with CARE.\n\n\n\n\n\n\n\n\nGENERAL DAILY FORMAT OF A 4 DAY INTENSIVE:\nThis schedule may vary at the discretion of your CARE Instructor.  When you RSVP for a seminar the detailed schedule for the event will be provided by the instructor.\n\n\n\n\n~Day 1\n\n\n\n\n\n\n\n5:30 – 6:30 PM\n\n\nRegistration Open\n\n\n\n\n\n6:30 – 9:00 PM\n\n\nHistory of Anointing & Laying on of Hands\n\n\n\n\nDay 2\n\n\n\n\n\n\n\n8:30 AM – NOON\n\n\nChemistry (first half)\n\n\n\n\n\n1:30 – 2:00 PM\n\n\nIntroduction to CARE\n\n\n\n\n\n2:00 – 6:30 PM\n\n\nApplied Vitaflex\n\n\n\n\n~ Day 3\n\n\n\n\n\n\n\n8:30 AM – NOON\n\n\nChemistry (second half)\n\n\n\n\n\n1:30 – 6:00 PM\n\n\nRaindrop (first half)\n\n\n\n\n~Day 4\n\n\n\n\n\n\n\n8:00 AM – NOON\n\n\nRaindrop (second half)\n\n\n\n\n\n1:30 – 7:00 PM\n\n\nEmotional Release\n\n\n\n\n\n\n\n\n\nCREDIT HOURS & PRICES:\n\n\n\n\n\nHistory of Anointing\n\n2 Credit Hours\n\n\n\n\n$45.00\nUSD\n\n\n\n\n\n\n\nApplied Vitaflex\n\n4 Credit Hours\n\n\n\n\n$160.00\nUSD\n\n\n\n\n\n\n\nRaindrop\n\n8 Credit Hours\n\n\n\n\n$365.00\nUSD\n\n\n\n\n\n\n\nEmotional Release\n\n5 Credit Hours\n\n\n\n\n$195.00\nUSD\n\n\n\n\n\n\n\nChemistry\n\n6 Credit Hours\n\n\n\n\n$250.00\nUSD\n\n\n\n\n\n\n\nALA CARTE PRICE\n\n25 Credit Hours\n\n\n\n\n$1\,015.00\nUSD\n\n\n\n\n\n\n\nThe CARE 4 DAY INTENSIVE PACKAGE PRICE \n\nAll 25 Credit Hours\n\n\n\n\n$800.00\nSave $215\nUSD\n\n\n\n\n\n\n\n\n\n\nLIMITATIONS OF CLASS SIZE\nRegistrations for Raindrop and Vitaflex are limited to keep class sizes small for better hands-on attention and training. The number of participants for Raindrop and Vitaflex is limited to 10 people per CARE Instructor. Preference given to those who register for the whole 25-hour Intensive. So register early to assure yourself a place.   As for the History of Anointing\, Chemistry\, and Emotional Release classes\, these are demonstration/lecture classes and there are no limitations on class size beyond the seating capacity of the room. They are all open to the public at ala carte prices.\n\n\n\n\nPRE-REQUISITES\nCARE Vitaflex is required before taking Raindrop. (Note: Vitaflex is included when you enroll for the entire 25-hr intensive)\n\n\n\n\nREFUNDS\nFull refund less $50 for processing for cancellations no later than two weeks before the seminar date\n\n\n\n\nWHAT IS INCLUDED\nCCI Handbook (full registrations only)\, Class Notes\, Necessary Oils\, Handouts\, and a Certificate acknowledging your participation in the course or courses taken are all included in seminar fees (note: no certificate issued to those taking History of Anointing ala carte\, only full intensive registrations).\n\n\n\n\nWHAT TO BRING\nBring two (2) sheets\, two (2) bath towels\, and one (1) hand towel. If you would be willing to bring a massage table\, please mention this when you register. You are encouraged also to bring your Bible for the History of Anointing class.\n\n\n\n\nTEXTS\nWhile there are no texts required to take the CARE classes\, if you own a copy of THE CHEMISTRY OF ESSENTIAL OILS MADE SIMPLE\, please bring it inasmuch as it will be referred to often in the Chemistry classes. Those without a copy of the Chemistry Book will be loaned a copy of the book to follow during class. Chemistry books may be available for purchase at the seminar. Other texts to be used include FEELINGS BURIED ALIVE\, HEAL YOUR BODY\, and RELEASING EMOTIONAL PATTERNS WITH ESSENTIAL OILS. Check with your CARE Instructor as these may be available for loan or purchase at the seminar.\n\n\n\n\nBOOKSTORE\nTexts and videos required for CCIs\, including those mentioned above\, may be available for sale at the seminar. Check with your CARE Instructor for more details. You may also purchase these and other books from www.raindroptraining.com.\n\n\n\n\nPREPARATION\nIt is a good idea to purchase the CARE DVDs/Videos on Raindrop and Vitaflex to review ahead of class in preparation for the hands-on training. Your fingernails must also be very short and filed smooth on the edges and corners. Clippers and files will be available in class. With long nails you will not be able to do all of the Vitaflex and Raindrop techniques. If you cannot perform all of the techniques taught in class because of long nails\, you may not receive credit for the class.
URL:https://wpt.thisisnotcareswebsite.blog/event/4-day-intensive-bartlesville-ok/
LOCATION:Bartlesville\, OK\, 5701 SE Adams Blvd.\, Bartlesville\, OK\, 74006\, United States
CATEGORIES:Four (4) Day Intensive
ATTACH;FMTTYPE=image/jpeg:https://wpt.thisisnotcareswebsite.blog/wp-content/uploads/2024/01/4day-intensive-banner.jpg
GEO:36.7420694;-95.9142242
X-APPLE-STRUCTURED-LOCATION;VALUE=URI;X-ADDRESS=Bartlesville OK 5701 SE Adams Blvd. Bartlesville OK 74006 United States;X-APPLE-RADIUS=500;X-TITLE=5701 SE Adams Blvd.:geo:-95.9142242,36.7420694
END:VEVENT
BEGIN:VEVENT
DTSTART;VALUE=DATE:20250502
DTEND;VALUE=DATE:20250505
DTSTAMP:20260421T030600
CREATED:20250208T151054Z
LAST-MODIFIED:20250208T151054Z
UID:10000371-1746144000-1746403199@wpt.thisisnotcareswebsite.blog
SUMMARY:3 DAY INTENSIVE - BROOKFIELD (SUBURB OF MILWAUKEE)\, WI
DESCRIPTION:CONTACT: \nTammy Struebing\, LCCI\, BCRS\, LSH\n714 South First Street\nAlbion\, NE 68620\ntstruebing@gmail.com \nCell: (402) 741-1574 \nIMPORTANT NOTE: Online Registration is NOT available for this intensive. Please register directly with contact person\, Tammy Struebing\, FCCI\, given above. Please make checks payable to: Tammy Struebing / Major Credit Cards accepted \nSEMINAR LOCATION:\nSheraton Milwaukee Brookfield Hotel \n375 S. Moorland Road \nBrookfield\, WI 53005 \nPh: (262) 364-1100 \nMilwaukee Airport \nThis Intensive’s Program Format: \nFirst Day – Friday\, May 2nd \n8:45 AM Registration \n9:00 AM Introduction to CARE \n9:30 AM – 12:30 PM Essential Oil Chemistry I (lecture) \n12:30 PM – 1:45 PM Lunch \n1:45 PM – 4:45 PM Essential Oil Chemistry II (lecture) \n4:45 PM – 5:00 PM Snack Recess \n5:00 PM – 7:00 PM Healing Oils of the Bible \n7:00 PM – Adjourn \n  \nSecond Day – Saturday\, May 3rd \n8:30 AM – 12:30 PM Applied Vitaflex (lecture\, demo\, hands-on) \n12:30 PM – 1:30 PM Lunch \n1:30 PM – 5:30 PM Raindrop Technique I (lecture\, demo) \n5:30 PM – 5:45 PM Snack Recess \n5:45 PM – 7:45 PM Raindrop Technique II\, Part A (hands-on) \n7:45 PM – Adjourn \n  \nThird Day – Sunday\, May 4th \n8:30 AM – 10:30 PM Raindrop Technique II\, Part B (hands-on cont.) \n10:30 AM – 12:30 PM Emotional Release with Oils\, Part A (lecture\, demo) \n12:30 AM – 1:30 PM Lunch \n1:30 PM – 4:30 PM Emotional Release\, Part B \n4:30 PM – Adjourn \nINTENSIVE FEES \nHistory of Anointing……………..… $45 \nApplied Vitaflex…………………….$160 \nChemistry……………………………$250 \nEmotional Release…………………..$195 \nRaindrop……………………………..$365 \nTotal Ala Carte Price……………..$1\,015 \nPackage Price………………….…..$800 \nSave $215 (21%) by pre-registering for the ENTIRE program \nREPEATS MAY ATTEND FULL INTENSIVE OR INDIVIDUAL CLASSES AT HALF-PRICE. \n€ REGISTRATIONS ARE LIMITED FOR RAINDROP AND VITAFLEX. PAY IN FULL TO GUARANTEE A PLACE IN THE INTENSIVE. Please make check payable to Tammy Struebing. Major credit cards accepted. . \nBio: \nTammy R. Struebing is a Fully Certified CARE Instructor (FCCI)\, Board Certified Raindrop Specialist (BCRS)\, Licensed Spiritual Healer (LSH) and Certified LaHoChi Facilitator (Spiritual Energetic Healing). She is certified as a Bach Flower Practitioner\, Registered Wellness Consultant and QXCI Biofeedback Technician. She has advanced training in Chemistry\, Emotional Release and Matrix Energetics. She practices at her business\, Olive Branch Healing Arts. She has taught CARE Intensives in Italy and across the U.S. to include Omaha\, Anchorage\, Seattle\, Des Moines\, Fargo\, Kansas City\, St. Louis\, St. Paul and Tomah\, Brookfield and Madison\, WI. In May 2007\, she received special training in Raindrop Technique with Dr. Gary Young in Ecuador. In November 2007\, she taught at the Institute of Energy Wellness Studies in Toronto\, Canada with Dr. Sabina DeVita. \nWHAT STUDENTS SAY ABOUT TAMMY AS A CARE INSTRUCTOR: \nThe time was very precious and a blessing! Tammy is pouring her love all day long amongst us and her tears\, when she shares her deep spiritual feelings for the oils\, touched my heart. She is a wonderful teacher\, a beautiful woman and a very dear and special friend to me. \nDr. Gabrielle Hauser\, Vienna\, Austria \nThis little group is really special! We were supported by so many angels and the highest spirit “Jesus”. I love this training! \nVijay Churfuerst-Hanzal\, Vienna\, Austria \nThis is a program for everyone. It will change their lives for a much better future. Make you a new person who belongs to God. \nDermot Bailey\, Niestetal\, Germany \nIt was such a pleasure to take this course that incorporates God and an appreciation for his gifts. Tammy is an excellent instructor\, knows the subject matter so well and inspires me to become like her. She evidently really cares for people and encourages us in our learning. A++ for her and the course. \nJacqueline Bettinger\, Belleville\, WI \nTammy is a gift from God – pure and simple. She affects and changes people with her gentle\, caring and knowing remarks. \nKimberly Freeman\, Madison\, WI \nTammy is such a high energy woman and a walking testimony to angels on earth. We have all been touched and blessed by her skills. \nKathy Blencoe\, Holmen\, WI \nThis is the 1st time I met Tammy. She is loving\, caring and totally filled with the Love of God and the Holy Spirit. \nSue Martin\, Stoughton\, WI \nTammy’s training was insightful and growthful. She created a loving\, accepting and supportive environment for learning and discovery. Vitaflex was the most thorough I’ve ever been trained on. The chemistry course was made simple to understand. I have been taught other versions of Raindrop\, but I found this class was the most thorough and easy to understand. The emotional release was beautiful to witness and experience. I highly recommend the CARE program to everyone who wishes to be awakened to the oils and chooses a deeper understanding of their magnificence! \nMonica Goldberg\, Madison\, WI \nTammy was a loving and gracious instructor. Humble in the sense she is only the facilitator and all healing as it is only through her\, not from her. I learned a lot. \nJean Anne Blessing\, Madison\, WI \nCARE MAIL-IN REGISTRATION FORM \nLocation of Seminar_____________________________________ \nDates of Seminar_______________________________________ \nCircle class(es) . .FULL . .HOB . .VF . .RD1 . .RD2 . .CH1 . .CH2 . .ER \nYour Name____________________________________________ \nAddress______________________________________________ \nCity_________________________________________________ \nState/Province__________________ Zip/Postal Code__________ \nDay Phone____________________________________________ \nEvening Phone_________________________________________ \nEmail Address_________________________________________ \nAmt. Paid $____________ Check Number______________ \nOR Credit Card: Type: _____Visa______MC \nCC#_____________________ Exp. Date_______ CVV#_______ \nExact Name on CC_____________________________________ \nWould You Be Willing to Bring a Massage Table?_____________ \nSend Registration to: \nTammy Struebing \n714 S. 1st St. \nAlbion\, NE  68620 \nCell: (402) 741-1574 \ntstruebing@gmail.com
URL:https://wpt.thisisnotcareswebsite.blog/event/3-day-intensive-brookfield-suburb-of-milwaukee-wi/
LOCATION:Brookfield (suburb of Milwaukee)\, WI\, 375 S. Moorland Hotel\, Brookfield\, WI\, 53005\, United States
CATEGORIES:Three (3) Day Intensive
ATTACH;FMTTYPE=image/jpeg:https://wpt.thisisnotcareswebsite.blog/wp-content/uploads/2022/12/3day-intensive-banner.jpg
ORGANIZER;CN="Tammy  Struebing":MAILTO:tstruebing@gmail.com
GEO:43.0271258;-88.1079168
X-APPLE-STRUCTURED-LOCATION;VALUE=URI;X-ADDRESS=DESCRIPTION:CONTACT: \nTammy Struebing LCCI BCRS LSH\n714 South First Street\nAlbion NE 68620\ntstruebing@gmail.com \nCell: (402) 741-1574 \nIMPORTANT NOTE: Online Registration is NOT available for this intensive. Please register directly with contact person Tammy Struebing FCCI given above. Please make checks payable to: Tammy Struebing / Major Credit Cards accepted \nSEMINAR \nSheraton Milwaukee Brookfield Hotel \n375 S. Moorland Road \nBrookfield WI 53005 \nPh: (262) 364-1100 \nMilwaukee Airport \nThis Intensive’s Program Format: \nFirst Day – Friday May 2nd \n8:45 AM Registration \n9:00 AM Introduction to CARE \n9:30 AM – 12:30 PM Essential Oil Chemistry I (lecture) \n12:30 PM – 1:45 PM Lunch \n1:45 PM – 4:45 PM Essential Oil Chemistry II (lecture) \n4:45 PM – 5:00 PM Snack Recess \n5:00 PM – 7:00 PM Healing Oils of the Bible \n7:00 PM – Adjourn \n  \nSecond Day – Saturday May 3rd \n8:30 AM – 12:30 PM Applied Vitaflex (lecture demo hands-on) \n12:30 PM – 1:30 PM Lunch \n1:30 PM – 5:30 PM Raindrop Technique I (lecture demo) \n5:30 PM – 5:45 PM Snack Recess \n5:45 PM – 7:45 PM Raindrop Technique II Part A (hands-on) \n7:45 PM – Adjourn \n  \nThird Day – Sunday May 4th \n8:30 AM – 10:30 PM Raindrop Technique II Part B (hands-on cont.) \n10:30 AM – 12:30 PM Emotional Release with Oils Part A (lecture demo) \n12:30 AM – 1:30 PM Lunch \n1:30 PM – 4:30 PM Emotional Release Part B \n4:30 PM – Adjourn \nINTENSIVE FEES \nHistory of Anointing……………..… $45 \nApplied Vitaflex…………………….$160 \nChemistry……………………………$250 \nEmotional Release…………………..$195 \nRaindrop……………………………..$365 \nTotal Ala Carte Price……………..$1015 \nPackage Price………………….…..$800 \nSave $215 (21%) by pre-registering for the ENTIRE program \nREPEATS MAY ATTEND FULL INTENSIVE OR INDIVIDUAL CLASSES AT HALF-PRICE. \n€ REGISTRATIONS ARE LIMITED FOR RAINDROP AND VITAFLEX. PAY IN FULL TO GUARANTEE A PLACE IN THE INTENSIVE. Please make check payable to Tammy Struebing. Major credit cards accepted. . \nBio: \nTammy R. Struebing is a Fully Certified CARE Instructor (FCCI) Board Certified Raindrop Specialist (BCRS) Licensed Spiritual Healer (LSH) and Certified LaHoChi Facilitator (Spiritual Energetic Healing). She is certified as a Bach Flower Practitioner Registered Wellness Consultant and QXCI Biofeedback Technician. She has advanced training in Chemistry Emotional Release and Matrix Energetics. She practices at her business Olive Branch Healing Arts. She has taught CARE Intensives in Italy and across the U.S. to include Omaha Anchorage Seattle Des Moines Fargo Kansas City St. Louis St. Paul and Tomah Brookfield and Madison WI. In May 2007 she received special training in Raindrop Technique with Dr. Gary Young in Ecuador. In November 2007 she taught at the Institute of Energy Wellness Studies in Toronto Canada with Dr. Sabina DeVita. \nWHAT STUDENTS SAY ABOUT TAMMY AS A CARE INSTRUCTOR: \nThe time was very precious and a blessing! Tammy is pouring her love all day long amongst us and her tears when she shares her deep spiritual feelings for the oils touched my heart. She is a wonderful teacher a beautiful woman and a very dear and special friend to me. \nDr. Gabrielle Hauser Vienna Austria \nThis little group is really special! We were supported by so many angels and the highest spirit “Jesus”. I love this training! \nVijay Churfuerst-Hanzal Vienna Austria \nThis is a program for everyone. It will change their lives for a much better future. Make you a new person who belongs to God. \nDermot Bailey Niestetal Germany \nIt was such a pleasure to take this course that incorporates God and an appreciation for his gifts. Tammy is an excellent instructor knows the subject matter so well and inspires me to become like her. She evidently really cares for people and encourages us in our learning. A++ for her and the course. \nJacqueline Bettinger Belleville WI \nTammy is a gift from God – pure and simple. She affects and changes people with her gentle caring and knowing remarks. \nKimberly Freeman Madison WI \nTammy is such a high energy woman and a walking testimony to angels on earth. We have all been touched and blessed by her skills. \nKathy Blencoe Holmen WI \nThis is the 1st time I met Tammy. She is loving caring and totally filled with the Love of God and the Holy Spirit. \nSue Martin Stoughton WI \nTammy’s training was insightful and growthful. She created a loving accepting and supportive environment for learning and discovery. Vitaflex was the most thorough I’ve ever been trained on. The chemistry course was made simple to understand. I have been taught other versions of Raindrop but I found this class was the most thorough and easy to understand. The emotional release was beautiful to witness and experience. I highly recommend the CARE program to everyone who wishes to be awakened to the oils and chooses a deeper understanding of their magnificence! \nMonica Goldberg Madison WI \nTammy was a loving and gracious instructor. Humble in the sense she is only the facilitator and all healing as it is only through her not from her. I learned a lot. \nJean Anne Blessing Madison WI \nCARE MAIL-IN REGISTRATION FORM \nLocation of Seminar_____________________________________ \nDates of Seminar_______________________________________ \nCircle class(es) . .FULL . .HOB . .VF . .RD1 . .RD2 . .CH1 . .CH2 . .ER \nYour Name____________________________________________ \nAddress______________________________________________ \nCity_________________________________________________ \nState/Province__________________ Zip/Postal Code__________ \nDay Phone____________________________________________ \nEvening Phone_________________________________________ \nEmail Address_________________________________________ \nAmt. Paid $____________ Check Number______________ \nOR Credit Card: Type: _____Visa______MC \nCC#_____________________ Exp. Date_______ CVV#_______ \nExact Name on CC_____________________________________ \nWould You Be Willing to Bring a Massage Table?_____________ \nSend Registration to: \nTammy Struebing \n714 S. 1st St. \nAlbion NE  68620 \nCell: (402) 741-1574 \ntstruebing@gmail.com;X-APPLE-RADIUS=500;X-TITLE=375 S. Moorland Hotel:geo:-88.1079168,43.0271258
END:VEVENT
END:VCALENDAR