BEGIN:VCALENDAR
VERSION:2.0
PRODID:-//The Center for Aromatherapy Research and Education - ECPv6.10.1.1//NONSGML v1.0//EN
CALSCALE:GREGORIAN
METHOD:PUBLISH
X-WR-CALNAME:The Center for Aromatherapy Research and Education
X-ORIGINAL-URL:https://wpt.thisisnotcareswebsite.blog
X-WR-CALDESC:Events for The Center for Aromatherapy Research and Education
REFRESH-INTERVAL;VALUE=DURATION:PT1H
X-Robots-Tag:noindex
X-PUBLISHED-TTL:PT1H
BEGIN:VTIMEZONE
TZID:America/Chicago
BEGIN:DAYLIGHT
TZOFFSETFROM:-0600
TZOFFSETTO:-0500
TZNAME:CDT
DTSTART:20250309T080000
END:DAYLIGHT
BEGIN:STANDARD
TZOFFSETFROM:-0500
TZOFFSETTO:-0600
TZNAME:CST
DTSTART:20251102T070000
END:STANDARD
END:VTIMEZONE
BEGIN:VEVENT
DTSTART;VALUE=DATE:20250221
DTEND;VALUE=DATE:20250224
DTSTAMP:20260421T075204
CREATED:20241218T212410Z
LAST-MODIFIED:20250102T225620Z
UID:10000351-1740096000-1740355199@wpt.thisisnotcareswebsite.blog
SUMMARY:Supervisor Training for CCIs
DESCRIPTION:This will be an online “virtual” training through Zoom \nInstructor: Anthony Stewart\, FCCI \nELIGIBILITY: Must be a CCI or above to register. \nWORKSHOP FEE & REGISTRATION: The fee for the Workshop is $800. Half price for repeat students. Current Supervisors who would like to audit the class and not fully participate may do so for $150. Registration may be completed on this page\, or by emailing accounting@raindroptraining.com and requesting an invoice. Please cc anthony@raindroptraining.com. You may also register by mailing a check to CARE Supervisor Training\, 12923 BCR 800\, Marble Hill\, MO\, 63764. \nSCCI REQUIREMENTS: Requirements for becoming an SCCI\, with a description of SCCI Privileges\, are on pp. 30-31 of the CCI Handbook (21st ed). One must have taught at least four Basic Sets to be eligible to become an SCCI\, but one may take the SCCI Workshop before having completed the four Sets. Only CCIs and above may take the Workshop. CIs are not eligible. \nTHE SUPERVISOR’S MANUAL: Participants must have purchased a CARE Supervisors Manual prior to class and will be using this during each online session. They are $95.00 plus $14 s/h. You will need to call CARE at (800) 758-8629 and order by phone with a credit card or email accounting@raindroptraining.com. The Supervisor’s Manual is not available through the website. \nPRE-WORKSHOP ASSIGNMENT: The pre-workshop assignment is to get a copy of the Return Demo Form (which may be downloaded from the website when you log in as a CCI) and view the CARE Vitaflex and Raindrop DVDs\, critiquing the instructor’s performance as if they were a CCI Candidate and you are the Examiner. Your completed Ret Demo forms are to be ready at class where they will be presented and discussed\, and whether a grade of Pass\, Fail\, or Facilitator Only shall be given. This form can be downloaded by logging into to your instructor profile at raindroptraining.com > Click Member Portal > Click Instructors & Facilitators Only > Click on the purple Certified CARE Instructor button > Click on Return Demo Checklist. \nCOURSE CONTENT: All aspects of Supervising will be reviewed\, including Examinations for Return Demonstrations\, Supervising Assistantship Classes\, Mentoring CCI Candidates\, Proctoring Internship Classes\, as well as Observing Emotional Release and Chemistry Classes for candidates seeking authorization for these subjects. \nGENERAL DAILY SCHEDULE: Students will typically meet with the instructor via Zoom at 9:00 a.m. Central US Time for approximately one hour in the mornings\, after which students will have homework to complete before meeting again at 3:00 p.m. Central US Time. The afternoon session will last approximately two hours. There may be more time spent online than this\, particularly on the last day of the training. However\, we will adjourn from class at noon on Sunday\, which is the last day. Daily schedule is subject to change. You will need to set aside all three days to being present online and completing assignments during the day \nNOTE ON CERTIFICATES: Students attending for the first time will receive a certificate for 20 CE hours. Repeat students have the option to receive a certificate for an additional $10 by making a request to CARE. Students who are only auditing the class will not receive certificates since they will not be fully participating in this workshop. Continuing Education Hours are through NCBTMB.
URL:https://wpt.thisisnotcareswebsite.blog/event/supervisor-training-for-ccis-2/
LOCATION:CARE Zoom Call – Online Only Event\, 12923 BCR 800\, Marble Hill\, MO\, 63764\, United States
CATEGORIES:Supervisor Training for CCIs
ATTACH;FMTTYPE=image/jpeg:https://wpt.thisisnotcareswebsite.blog/wp-content/uploads/2021/12/The-Center-for-Aromatherapy-Research-and-Education-social-image.jpg
ORGANIZER;CN="Anthony Stewart":MAILTO:anthonymack777@gmail.com
GEO:37.3058871;-89.9703793
X-APPLE-STRUCTURED-LOCATION;VALUE=URI;X-ADDRESS=CARE Zoom Call – Online Only Event 12923 BCR 800 Marble Hill MO 63764 United States;X-APPLE-RADIUS=500;X-TITLE=12923 BCR 800:geo:-89.9703793,37.3058871
END:VEVENT
BEGIN:VEVENT
DTSTART;VALUE=DATE:20250222
DTEND;VALUE=DATE:20250224
DTSTAMP:20260421T075204
CREATED:20250102T180447Z
LAST-MODIFIED:20250103T172021Z
UID:10000357-1740182400-1740355199@wpt.thisisnotcareswebsite.blog
SUMMARY:4 DAY CARE INTENSIVE OVER 2 WEEKENDS - Port Charlotte\, Florida
DESCRIPTION:RAINDROP\, VITAFLEX\, HISTORY OF ANOINTING\, CHEMISTRY\, EMOTIONAL RELEASE\nReady to learn RAINDROP? Come join us February 22-23 & March 1-2\, 2025 in Port Charlotte\, FL!\nWhether you want to enhance or expand your knowledge or want to learn a new skill\, check out our CARE Intensive. Remember\, repeat students of CARE\, are eligible for 1/2 price for any CARE classes already attended in past. CARE’s Instructors way of showing how much they care. Call me if you have questions. \n4 DAY CARE INTENSIVE OVER 2 WEEKENDS – Port Charlotte\, Florida\nSat & Sun: February 22-23 and March 1-2\, 2025\nInstructor: Fran Norton RN\, CCM\, LCCI\, Geoff Norton DC\, QCCA\nRAINDROP\, VITAFLEX\, HISTORY OF ANOINTING\, CHEMISTRY\, EMOTIONAL RELEASE\nThis will be two\, two-day workshops\, one Intensive in total\, in Raindrop\, Vitaflex\, Chemistry\, Emotional Release and History of Anointing & Laying on of Hands – 25 hours in practical applications of essential oils as well as 25 hours continuing education for massage therapists and body workers.\nParticipants completing the training will:\n~ Understand the Fundamentals of Aromatherapy\n~ Understand the Science and Chemistry of Essential Oils\n~ Learn to Apply Useful Skills in Vitaflex\n~ Learn to do Raindrop Technique\n~ Learn how Essential Oils Can be Used for Emotional Releasing\nCONTINUING EDUCATION CREDIT\nThe Center for Aromatherapy Research and Education is approved by the National Certification Board for Therapeutic Massage and Bodywork (NCBTMB) as a continuing education Approved Provider.\nCONTACT INFORMATION\nFran Norton\, LCCI\n8254 Agate St.\nPort Charlotte\, FL 33981\n(941)662-8262\nfranorton4@aol.com\nIMPORTANT NOTE: ONLINE REGISTRATION is not available for the full CARE Program through this website. For full or individual courses\, you may register directly through Fran Norton (see form below).\nPROGRAM LOCATION: To be determined\, and will be comparable to below location: Information will be provided in packet mailed to attendee once they have registered.\n8254 Agate St.\nPort Charlotte\, FL 33981\nHOTEL ACOMADATIONS: Sun Coast Inn \, 2073 S. McCall Rd.\, Englewood\, FL 34224 941-475-6533 or toll free 800-633-8115 https://suncoastinn.com/ Also\, participants has found very nice accommodations at local B&B’s in Rotonda\, through www.airbnb.com\nNEAREST AIRPORT:\nFt Myers- Southwest Florida Regional Airport (RSW) and Sarasota Bradenton Airport (SRQ) and Punta Gorda Airport (http://www.flypgd.com/)\nSEMINAR DAILY FORMAT:\n~ FIRST DAY-SAT #1\n8:30 AM . . . . . Registration Open\n9:00 AM . . . . . Introduction to CARE\n10:00 AM . . . . History of Anointing & Laying of of Hands\n12:30 PM . . . . Lunch Recess\n2:00 PM . . . . . Chemistry I\n5:00 PM . . . . . Adjourn\nEvening Free\n~SECOND DAY-SUN#1\n9:00 AM . . . . Chemistry II\nNoon . . . . . . Lunch Recess\n1:30 PM . . . . Vitaflex\n5:30 PM . . . . Adjourn\nEvening Free\n~THIRD DAY-SAT#2\n9:00 AM . . . . Raindrop I\n1:00 PM . . . . Lunch Recess\n2:00 PM . . . . Raindrop II\n6:00 PM . . . . Adjourn\nEvening Free\n~FOURTH DAY-SUN#2\n9:00 AM . . . . Emotional Release\n2:00 PM . . .. . Adjourn Seminar\nCREDIT HOURS & PRICES:\n~Individual Course Credits & Ala Carte Prices\nApplied Vitaflex . . . . . . . . . . 4 hours . . . $160 U.S. dollars\nHistory of Anointing . . . . . . 2 hours . . . $45\nRaindrop I & II . . . . . . . . . .  8 hours . . . $365\nChemistry I & II. . . . . .  . . . . 6 hours . . . $250\nEmotional Release. . . . . . . . .5 hours . . . $195\n~TOTAL ALA CARTE PRICE . .25 hours . . . $1\,015 U.S. dollars\nPACKAGE PRICE FOR WHOLE PROGRAM (All 25 hours) $800 U.S. (Save $215)\nLIMITATIONS OF CLASS SIZE:\nRegistrations for Raindrop and Vitaflex are limited to the first 6 people to keep class sizes small for better hands-on attention and training. So register early to assure a place. As for the History of Anointing\, Chem I\, Chem II\, and Emotional Release classes\, these are demonstration/lecture classes and there are reasonable limitations on class size. Contact Fran for options on availability for non-Intensive attendees.\nCash\, Check\, PayPal Friends & Family and Credit Cards Acceptable\n(VISA\, MC\, Discover\, Amer. Express all okay)\nSee contact information above for registration info.\nPRE-REQUISITES:\nCARE Vitaflex is required before taking Raindrop I.\nCARE Raindrop I is required before taking Raindrop II.\nThere are no pre-requisites for the History of Anointing\, Chem I\, Chem II\, or Emotional Release classes.\nREFUNDS:\nFull refund less $50 for processing for cancellations no later than two weeks before the seminar date.\nWHAT IS INCLUDED:\nClass Notes\, Necessary Oils for class use\, Handouts\, and a Certificate acknowledging your participation in the course or courses taken are all included in seminar fees.\nWHAT TO BRING:\nBring two (2) sheets\, two (2) bath towels\, and one (1) hand towel. If you would be willing to bring a massage table\, please mention this when you register. You are encouraged also to bring your Bible for the Bible Oils class. While there are no texts required to take the CARE classes\, if you own a copy of THE CHEMISTRY OF ESSENTIAL OILS MADE SIMPLE\, HEALING OILS OF THE BIBLE BOTH BY Dr. David Stewart\, FEELINGS BURRIED ALIVE NEVER DIE\, by Karol Truman\, RELEASING EMOTIONAL PATTERNS by Carolyn Mein\, DC\, and HEAL YOUR BODY by Louise Hay\, please bring them inasmuch as they will be referred to often in the Chemistry\, Bible Oils and Emotional Release classes. Copies will be available for loan at the seminar if you don’t have a copy.\nSEMINAR BOOKSTORE:\nTexts and DVDs required for CCIs\, as well as other publications\, are available for sale at www.RaindropTraining.com or Amazon. Check for best pricing on those websites.\nWhat Some People Say About The C.A.R.E. Training\nI am overjoyed at the unexpected release I received here today! Fran Norton is a most gracious loving person flowing in the gift of God to help heal those He brings her way.\n~Sheila K. Kamyk\, Hillsboro\, Missouri\n“I am a massage therapist and take a lot of continuing education courses as a requirement for my license. The CARE Program is the best I have taken. I learned so much about how and why the oils work and now I understand the science behind it. I am glad to have a standard protocol for raindrop. I have been doing raindrop for over a year\, but never felt sure of my work. What a difference a weekend makes! With this protocol I felt nurtured and cared for. Even though when I received it was the first raindrop my classmates had performed\, it was the most powerful I had ever experienced. I felt so calm\, relaxed and whole. And when we measured at the end I had grown 1-1/4 inches! I can’t wait to get back to my office and start work on my clients.\n~Leslie Knee\, LMT\, Silver Spring\, Maryland.\nThe CARE program is an essential and integral part to all the healing arts. This is a new paradigm that will surely be a major movement.\n~ Dr. Scott Wruck\, Green Bay\, Wisconsin\nThis is the best program of this kind I have attended. I greatly appreciate CARE’s commitment to quality & consistency\, which provides a greater sense of professionalism. A warm & supportive atmosphere was always present as well. Thank you for your great work.\n~ Sandra Parkins\, Avada\, Colorado\nIf you are seriously committed to learning about therapeutic essential oils\, this is THE course to take! I’ve been studying EO’s for 3 years and was amazed by the wealth of well-researched information\, resources and experience presented by CARE.\n~ Lana Lauder\, Alberta\, Canada\nI came all the way to America for this course. It was far beyond all my expectations and I recommend it to any person interested in healing. It is a testimony of good fellowship and a practical hands-on training both widely and specifically focused. Great!\n~ Holger Grimme\, Wallenfels\, Bavaria\, Germany\nI can think of no way to improve on this course. It is the best workshop I have ever attended. I feel I have gotten more than my money’s worth.\n~ Steve H. Potts\, New Castle\, Wyoming\nCARE MAIL-IN REGISTRATION FORM\nLocation of Seminar_____________________________________\nDates of Seminar_______________________________________\nCircle class(es) . .FULL . .HOB . .VF . .RD1 . .RD2 . .CH1 . .CH2 . .ER\nYour Name____________________________________________\nAddress______________________________________________\nCity_________________________________________________\nState/Province__________________ Zip/Postal Code__________\nDay Phone____________________________________________\nEvening Phone_________________________________________\nEmail Address_________________________________________\nAmt. Paid $____________ Check Number______________\nOR Credit Card: Type: _____Visa______MC\nCC#___________________________________________________\nExp. Date_______ CVV#_______\nExact Name on CC_____________________________________\nWould You Be Willing to Bring a Massage Table?_____________\nSend Registration to:\nFran Norton RN\, LCCI\n8254 Agate St.\nPort Charlotte\, Florida 33981\n(941)662-8262\nfranorton4@aol.com
URL:https://wpt.thisisnotcareswebsite.blog/event/4-day-care-intensive-over-2-weekends-port-charlotte-florida/
LOCATION:Port Charlotte – Location Upon Registration\, AGATE ST\, PORT CHARLOTTE\, FL\, 33981\, United States
CATEGORIES:Four (4) Day Intensive
ATTACH;FMTTYPE=image/jpeg:https://wpt.thisisnotcareswebsite.blog/wp-content/uploads/2024/01/4day-intensive-banner.jpg
ORGANIZER;CN="Fran Norton":MAILTO:franorton4@aol.com
GEO:26.89994;-82.231655
X-APPLE-STRUCTURED-LOCATION;VALUE=URI;X-ADDRESS=DESCRIPTION:RAINDROP VITAFLEX HISTORY OF ANOINTING CHEMISTRY EMOTIONAL RELEASE\nReady to learn RAINDROP? Come join us February 22-23 & March 1-2 2025 in Port Charlotte FL!\nWhether you want to enhance or expand your knowledge or want to learn a new skill check out our CARE Intensive. Remember repeat students of CARE are eligible for 1/2 price for any CARE classes already attended in past. CARE’s Instructors way of showing how much they care. Call me if you have questions. \n4 DAY CARE INTENSIVE OVER 2 WEEKENDS – Port Charlotte Florida\nSat & Sun: February 22-23 and March 1-2 2025\nInstructor: Fran Norton RN CCM LCCI Geoff Norton DC QCCA\nRAINDROP VITAFLEX HISTORY OF ANOINTING CHEMISTRY EMOTIONAL RELEASE\nThis will be two two-day workshops one Intensive in total in Raindrop Vitaflex Chemistry Emotional Release and History of Anointing & Laying on of Hands – 25 hours in practical applications of essential oils as well as 25 hours continuing education for massage therapists and body workers.\nParticipants completing the training will:\n~ Understand the Fundamentals of Aromatherapy\n~ Understand the Science and Chemistry of Essential Oils\n~ Learn to Apply Useful Skills in Vitaflex\n~ Learn to do Raindrop Technique\n~ Learn how Essential Oils Can be Used for Emotional Releasing\nCONTINUING EDUCATION CREDIT\nThe Center for Aromatherapy Research and Education is approved by the National Certification Board for Therapeutic Massage and Bodywork (NCBTMB) as a continuing education Approved Provider.\nCONTACT INFORMATION\nFran Norton LCCI\n8254 Agate St.\nPort Charlotte FL 33981\n(941)662-8262\nfranorton4@aol.com\nIMPORTANT NOTE: ONLINE REGISTRATION is not available for the full CARE Program through this website. For full or individual courses you may register directly through Fran Norton (see form below).\nPROGRAM  To be determined and will be comparable to below location: Information will be provided in packet mailed to attendee once they have registered.\n8254 Agate St.\nPort Charlotte FL 33981\nHOTEL ACOMADATIONS: Sun Coast Inn  2073 S. McCall Rd. Englewood FL 34224 941-475-6533 or toll free 800-633-8115 https://suncoastinn.com/ Also participants has found very nice accommodations at local B&B’s in Rotonda through www.airbnb.com\nNEAREST AIRPORT:\nFt Myers- Southwest Florida Regional Airport (RSW) and Sarasota Bradenton Airport (SRQ) and Punta Gorda Airport (http://www.flypgd.com/)\nSEMINAR DAILY FORMAT:\n~ FIRST DAY-SAT #1\n8:30 AM . . . . . Registration Open\n9:00 AM . . . . . Introduction to CARE\n10:00 AM . . . . History of Anointing & Laying of of Hands\n12:30 PM . . . . Lunch Recess\n2:00 PM . . . . . Chemistry I\n5:00 PM . . . . . Adjourn\nEvening Free\n~SECOND DAY-SUN#1\n9:00 AM . . . . Chemistry II\nNoon . . . . . . Lunch Recess\n1:30 PM . . . . Vitaflex\n5:30 PM . . . . Adjourn\nEvening Free\n~THIRD DAY-SAT#2\n9:00 AM . . . . Raindrop I\n1:00 PM . . . . Lunch Recess\n2:00 PM . . . . Raindrop II\n6:00 PM . . . . Adjourn\nEvening Free\n~FOURTH DAY-SUN#2\n9:00 AM . . . . Emotional Release\n2:00 PM . . .. . Adjourn Seminar\nCREDIT HOURS & PRICES:\n~Individual Course Credits & Ala Carte Prices\nApplied Vitaflex . . . . . . . . . . 4 hours . . . $160 U.S. dollars\nHistory of Anointing . . . . . . 2 hours . . . $45\nRaindrop I & II . . . . . . . . . .  8 hours . . . $365\nChemistry I & II. . . . . .  . . . . 6 hours . . . $250\nEmotional Release. . . . . . . . .5 hours . . . $195\n~TOTAL ALA CARTE PRICE . .25 hours . . . $1015 U.S. dollars\nPACKAGE PRICE FOR WHOLE PROGRAM (All 25 hours) $800 U.S. (Save $215)\nLIMITATIONS OF CLASS SIZE:\nRegistrations for Raindrop and Vitaflex are limited to the first 6 people to keep class sizes small for better hands-on attention and training. So register early to assure a place. As for the History of Anointing Chem I Chem II and Emotional Release classes these are demonstration/lecture classes and there are reasonable limitations on class size. Contact Fran for options on availability for non-Intensive attendees.\nCash Check PayPal Friends & Family and Credit Cards Acceptable\n(VISA MC Discover Amer. Express all okay)\nSee contact information above for registration info.\nPRE-REQUISITES:\nCARE Vitaflex is required before taking Raindrop I.\nCARE Raindrop I is required before taking Raindrop II.\nThere are no pre-requisites for the History of Anointing Chem I Chem II or Emotional Release classes.\nREFUNDS:\nFull refund less $50 for processing for cancellations no later than two weeks before the seminar date.\nWHAT IS INCLUDED:\nClass Notes Necessary Oils for class use Handouts and a Certificate acknowledging your participation in the course or courses taken are all included in seminar fees.\nWHAT TO BRING:\nBring two (2) sheets two (2) bath towels and one (1) hand towel. If you would be willing to bring a massage table please mention this when you register. You are encouraged also to bring your Bible for the Bible Oils class. While there are no texts required to take the CARE classes if you own a copy of THE CHEMISTRY OF ESSENTIAL OILS MADE SIMPLE HEALING OILS OF THE BIBLE BOTH BY Dr. David Stewart FEELINGS BURRIED ALIVE NEVER DIE by Karol Truman RELEASING EMOTIONAL PATTERNS by Carolyn Mein DC and HEAL YOUR BODY by Louise Hay please bring them inasmuch as they will be referred to often in the Chemistry Bible Oils and Emotional Release classes. Copies will be available for loan at the seminar if you don’t have a copy.\nSEMINAR BOOKSTORE:\nTexts and DVDs required for CCIs as well as other publications are available for sale at www.RaindropTraining.com or Amazon. Check for best pricing on those websites.\nWhat Some People Say About The C.A.R.E. Training\nI am overjoyed at the unexpected release I received here today! Fran Norton is a most gracious loving person flowing in the gift of God to help heal those He brings her way.\n~Sheila K. Kamyk Hillsboro Missouri\n“I am a massage therapist and take a lot of continuing education courses as a requirement for my license. The CARE Program is the best I have taken. I learned so much about how and why the oils work and now I understand the science behind it. I am glad to have a standard protocol for raindrop. I have been doing raindrop for over a year but never felt sure of my work. What a difference a weekend makes! With this protocol I felt nurtured and cared for. Even though when I received it was the first raindrop my classmates had performed it was the most powerful I had ever experienced. I felt so calm relaxed and whole. And when we measured at the end I had grown 1-1/4 inches! I can’t wait to get back to my office and start work on my clients.\n~Leslie Knee LMT Silver Spring Maryland.\nThe CARE program is an essential and integral part to all the healing arts. This is a new paradigm that will surely be a major movement.\n~ Dr. Scott Wruck Green Bay Wisconsin\nThis is the best program of this kind I have attended. I greatly appreciate CARE’s commitment to quality & consistency which provides a greater sense of professionalism. A warm & supportive atmosphere was always present as well. Thank you for your great work.\n~ Sandra Parkins Avada Colorado\nIf you are seriously committed to learning about therapeutic essential oils this is THE course to take! I’ve been studying EO’s for 3 years and was amazed by the wealth of well-researched information resources and experience presented by CARE.\n~ Lana Lauder Alberta Canada\nI came all the way to America for this course. It was far beyond all my expectations and I recommend it to any person interested in healing. It is a testimony of good fellowship and a practical hands-on training both widely and specifically focused. Great!\n~ Holger Grimme Wallenfels Bavaria Germany\nI can think of no way to improve on this course. It is the best workshop I have ever attended. I feel I have gotten more than my money’s worth.\n~ Steve H. Potts New Castle Wyoming\nCARE MAIL-IN REGISTRATION FORM\nLocation of Seminar_____________________________________\nDates of Seminar_______________________________________\nCircle class(es) . .FULL . .HOB . .VF . .RD1 . .RD2 . .CH1 . .CH2 . .ER\nYour Name____________________________________________\nAddress______________________________________________\nCity_________________________________________________\nState/Province__________________ Zip/Postal Code__________\nDay Phone____________________________________________\nEvening Phone_________________________________________\nEmail Address_________________________________________\nAmt. Paid $____________ Check Number______________\nOR Credit Card: Type: _____Visa______MC\nCC#___________________________________________________\nExp. Date_______ CVV#_______\nExact Name on CC_____________________________________\nWould You Be Willing to Bring a Massage Table?_____________\nSend Registration to:\nFran Norton RN LCCI\n8254 Agate St.\nPort Charlotte Florida 33981\n(941)662-8262\nfranorton4@aol.com;X-APPLE-RADIUS=500;X-TITLE=AGATE ST:geo:-82.231655,26.89994
END:VEVENT
END:VCALENDAR