BEGIN:VCALENDAR
VERSION:2.0
PRODID:-//The Center for Aromatherapy Research and Education - ECPv6.10.1.1//NONSGML v1.0//EN
CALSCALE:GREGORIAN
METHOD:PUBLISH
X-WR-CALNAME:The Center for Aromatherapy Research and Education
X-ORIGINAL-URL:https://wpt.thisisnotcareswebsite.blog
X-WR-CALDESC:Events for The Center for Aromatherapy Research and Education
REFRESH-INTERVAL;VALUE=DURATION:PT1H
X-Robots-Tag:noindex
X-PUBLISHED-TTL:PT1H
BEGIN:VTIMEZONE
TZID:America/Chicago
BEGIN:DAYLIGHT
TZOFFSETFROM:-0600
TZOFFSETTO:-0500
TZNAME:CDT
DTSTART:20240310T080000
END:DAYLIGHT
BEGIN:STANDARD
TZOFFSETFROM:-0500
TZOFFSETTO:-0600
TZNAME:CST
DTSTART:20241103T070000
END:STANDARD
END:VTIMEZONE
BEGIN:VEVENT
DTSTART;TZID=America/Chicago:20240926T173000
DTEND;TZID=America/Chicago:20240929T173000
DTSTAMP:20260421T154054
CREATED:20240421T021540Z
LAST-MODIFIED:20240814T210624Z
UID:10000298-1727371800-1727631000@wpt.thisisnotcareswebsite.blog
SUMMARY:Raindrop CARE Intensive Seminar - VA Beach
DESCRIPTION:CONTACT INFORMATION:\nDenise Setzer\, 757-218-4540;\nemail: denise@healthylivingwithdenise.com \nINTENSIVE DAILY SCHEDULE\n~THURSDAY\, September 26\, 2024\n5:30 PM – 6:15 PM . . . . . .Introduction to CARE\n6:30 PM – 9:00 PM . . . . . .History of Anointing and Laying on of Hands \n~FRIDAY\, September 27\, 2024\n8:00 AM – 12:00 PM . . . . .Chemistry I\n12:00 PM – 1:00 PM . . . . .Lunch\n1:00 PM – 6:30 PM . . . . . .Emotional Release \n~SATURDAY\, September 28\, 2024\n8:00 AM – 12:00 PM . . . . . . Chemistry II\n12:00 PM – 1:00 PM . . . . . . Lunch\n1:00 PM – 5:00 PM. . . . . . . .Vitaflex\n5:00 PM – 6:00 PM . . . . . . . Introduction to Raindrop \n~SUNDAY\, September 29\, 2024\n8:00 AM – 12:30 PM . . . . . Raindrop Practice I 12:30 PM – 1:30 PM. . . . . . Lunch\n1:30 PM – 5:30 PM. . . . . . . Raindrop Practice II \nLIMITATIONS OF CLASS SIZE:\nRegistrations for Raindrop and Vitaflex are limited to keep class sizes small for better hands-on attention and training. This class is limited to 15 students. \nPRE-REQUISITES:\nCARE Vitaflex is required before taking Raindrop I. \nCARE Raindrop I is required before taking Raindrop II. \nThere are no pre-requisites for the History of Anointing\, Chem I\, Chem II\, or Emotional Release classes. \nREFUNDS: Full refund less $100 for processing for cancellations no later than two weeks before the seminar date \nWHAT IS INCLUDED:\nClass Notes\, Necessary Oils\, Handouts\, and Certificates acknowledging your participation in the course or courses taken are all included in seminar fees. \nWHAT TO BRING:\nBring two (2) sheets\, two (2) bath towels\, and one (1) hand towel. If you would be willing to bring a massage table\, please mention this when you register. \nSEMINAR BOOKSTORE:\nThere are no texts required to take the CARE classes. For those desiring to become a Certified Raindrop Technique Specialist (CRTS) and / or a Certified CARE Instructor (CCI) you can purchase books from www.raindroptraining.com. Required books and DVDS to becoming a CRTS are: EODR \, Healing for the Age of Enlightenment\, Statistical Validation of Raindrop\, Chemistry of Essential Oils Made Simple\, Raindrop DVD\, and Vitaflex DVD. If you own copies of the following books please bring them as we will reference them in class: Chemistry of Essential Oils Made Simple\, Feelings Buried Alive Never Die\, Releasing Emotional Patterns\, and Healy Your Body. Please note\, texts and DVDS WILL NOT be available for purchase at the seminar. \nRequired for CCI (all of the above\, plus): Healing Oils of the Bible\, Heal Your Body\, Releasing Emotional Patterns with Essential Oils\, Feelings Buried Alive Never Die\, A More Excellent Way to Better Health\, Emotional Release DVD\, Healing Oils of the Bible DVD\, Chemistry of EO’s DVD. \nPREPARATION:\nYour fingernails MUST be trimmed very short and filed smooth on the edges and corners. Please remove all nail polish from your fingers and toes (essential oils can remove nail polish causing it to get on sheets and on those procticing on you.) If you are unable to proctice the techniques in class as taught because of long nails\, you may not receive credit for the class. Clippers and files will be available in class.
URL:https://wpt.thisisnotcareswebsite.blog/event/raindrop-care-intensive-seminar-va-beach/
LOCATION:Healthy Living with Denise\, 341 Cleveland Place\, Suite 109\, Virginia Beach\, VA\, 23462\, United States
CATEGORIES:Four (4) Day Intensive
ATTACH;FMTTYPE=image/jpeg:https://wpt.thisisnotcareswebsite.blog/wp-content/uploads/2022/12/4day-intensive-banner.jpg
ORGANIZER;CN="Denise Setzer":MAILTO:denise@healthylivingwithdenise.com
GEO:36.8437976;-76.1622972
X-APPLE-STRUCTURED-LOCATION;VALUE=URI;X-ADDRESS=Healthy Living with Denise 341 Cleveland Place Suite 109 Virginia Beach VA 23462 United States;X-APPLE-RADIUS=500;X-TITLE=341 Cleveland Place\, Suite 109:geo:-76.1622972,36.8437976
END:VEVENT
BEGIN:VEVENT
DTSTART;VALUE=DATE:20240928
DTEND;VALUE=DATE:20240930
DTSTAMP:20260421T154054
CREATED:20240211T192439Z
LAST-MODIFIED:20240222T183141Z
UID:10000269-1727481600-1727654399@wpt.thisisnotcareswebsite.blog
SUMMARY:2 Day Seminar w/o HAL - Skowhegan Maine
DESCRIPTION:Click the RSVP button to receive more information about this event.
URL:https://wpt.thisisnotcareswebsite.blog/event/2-day-seminar-wo-hal-skowhegan-maine-2/
LOCATION:Skowhegan\, Maine\, Skowhegan\, ME\, United States
CATEGORIES:Two (2) Day Seminar w/o HAL
ATTACH;FMTTYPE=image/jpeg:https://wpt.thisisnotcareswebsite.blog/wp-content/uploads/2022/12/2day-seminar-banner-without-hal.jpg
ORGANIZER;CN="Vicki Merrill":MAILTO:memoriesmatter@tds.net
GEO:44.7650366;-69.7193803
END:VEVENT
BEGIN:VEVENT
DTSTART;VALUE=DATE:20240928
DTEND;VALUE=DATE:20240930
DTSTAMP:20260421T154054
CREATED:20240801T183343Z
LAST-MODIFIED:20240801T184534Z
UID:10000323-1727481600-1727654399@wpt.thisisnotcareswebsite.blog
SUMMARY:2 DAY SEMINAR W/ HAL - Mount Holly NC
DESCRIPTION:PLEASE CLICK THE RSVP BUTTON TO CONTACT THE INSTRUCTOR AND TO RECEIVE A MORE DETAILED DAILY SCHEDULE OF THIS EVENT.
URL:https://wpt.thisisnotcareswebsite.blog/event/2-day-seminar-w-hal-mount-holly-nc2/
LOCATION:Mt Holly\, Riverfront Parkway\, Mount Holly\, NC\, 28120\, United States
CATEGORIES:Two (2) Day Seminar w/ HAL
ATTACH;FMTTYPE=image/jpeg:https://wpt.thisisnotcareswebsite.blog/wp-content/uploads/2022/12/2day-seminar-banner-with-hal.jpg
GEO:35.2734838;-81.0181382
X-APPLE-STRUCTURED-LOCATION;VALUE=URI;X-ADDRESS=Mt Holly Riverfront Parkway Mount Holly NC 28120 United States;X-APPLE-RADIUS=500;X-TITLE=Riverfront Parkway:geo:-81.0181382,35.2734838
END:VEVENT
BEGIN:VEVENT
DTSTART;VALUE=DATE:20240929
DTEND;VALUE=DATE:20241001
DTSTAMP:20260421T154054
CREATED:20240916T152615Z
LAST-MODIFIED:20240916T152615Z
UID:10000337-1727568000-1727740799@wpt.thisisnotcareswebsite.blog
SUMMARY:2 Day Seminar w/HAL - Boerne Texas
DESCRIPTION:HERE ARE THE DETAILS FOR THE SEMINAR\nTWO-DAY HANDS-ON WORKSHOP RAINDROP\, VITAFLEX\, & THE HISTORY OF ANOINTING AND LAYING ON OF HANDS \nDAY 1\nRegistration 9:00 AM\nINTRODUCTION TO CARE \nHISTORY OF ANOINTING AND LAYING ON OF HANDS (lunch break) \nAPPLIED VITAFLEX \nDAY 2 \n8:30 Check-in \nRAINDROP TECHNIQUE (FIRST HALF) \nLUNCH BREAK \nRAINDROP TECHNIQUE (SECOND HALF) \nLIMITATIONS OF CLASS SIZE\nRaindrop and Vitaflex are limited to 3 students for better hands-on attention and training.\nPRE-REQUISITES\nNo experience is necessary. All classes are scheduled for pre-requisite requirements.\nREFUNDS\nNo refunds will be issued. Class fees will be credited to the following Training Seminar\, available within one year of your registration date.\nWHAT IS INCLUDED\nClass Notes\, Necessary Oils\, Handouts\, a Handbook (if you have one\, please bring yours)\, and Certificates (mailed to you) acknowledging your participation in the course or courses are all included in seminar fees.\nWHAT TO BRING\nBring any books you have and your CARE HANDBOOK if you have taken classes before. Bring (1) twin sheet set\, (1) large bath towel\, and one (1) hand towel. These are for your personal use to receive your raindrop session.\nSEMINAR BOOKSTORE\nTexts and videos required for CARE Education are available for sale at the Seminar. I maintain a small Book Store to save on shipping for your convenience.\nPREPARATION\nIf you have books from previous classes\, please bring them\, especially your CARE HANDBOOK. Your fingernails must be free of nail polish\, very short\, and filed smoothly on the edges and corners. Clippers and files will be available in class. You cannot do all Vitaflex and Raindrop techniques with long nails. If you cannot perform all of the techniques taught in class because of long nails\, you may not receive credit for the class. \nThe National Certification Board approves the Center for Aromatherapy Research and Education (CARE) for Therapeutic Massage and Bodywork (NCBTMB) as a Continuing Education Approved Provider. This Seminar is worth 14 CE-hrs. of credit through NCBTMB. The 14 Hours of Credit for this Seminar are the first step toward becoming a Certified Raindrop Technique Specialist (CRTS) through the Natural Therapies Certification Board (NTCB). Completing this Seminar is also the first and basic set of requirements for becoming a Certified CARE Instructor (CCI)\, should you wish to pursue a teaching career with CARE. An additional 11 hours of CARE class time is required to move forward with these certifications. \nSee you soon! Elisa ND\, BCRS\, SCCI
URL:https://wpt.thisisnotcareswebsite.blog/event/2-day-seminar-w-hal-boerne-texas-2/
LOCATION:THE WELLNESS HUB\, East Blanco Road\, Boerne\, TX\, 78006\, United States
CATEGORIES:Two (2) Day Seminar w/ HAL
ATTACH;FMTTYPE=image/jpeg:https://wpt.thisisnotcareswebsite.blog/wp-content/uploads/2022/12/2day-seminar-banner-with-hal.jpg
ORGANIZER;CN="Elisa McClure":MAILTO:elisamcclure71@gmail.com
GEO:29.797227;-98.7258848
X-APPLE-STRUCTURED-LOCATION;VALUE=URI;X-ADDRESS=THE WELLNESS HUB East Blanco Road Boerne TX 78006 United States;X-APPLE-RADIUS=500;X-TITLE=East Blanco Road:geo:-98.7258848,29.797227
END:VEVENT
END:VCALENDAR